BEGIN:VCALENDAR
VERSION:2.0
PRODID:-//The Ark - ECPv6.15.20//NONSGML v1.0//EN
CALSCALE:GREGORIAN
METHOD:PUBLISH
X-ORIGINAL-URL:https://theark.org
X-WR-CALDESC:Events for The Ark
REFRESH-INTERVAL;VALUE=DURATION:PT1H
X-Robots-Tag:noindex
X-PUBLISHED-TTL:PT1H
BEGIN:VTIMEZONE
TZID:America/Detroit
BEGIN:DAYLIGHT
TZOFFSETFROM:-0500
TZOFFSETTO:-0400
TZNAME:EDT
DTSTART:20240310T070000
END:DAYLIGHT
BEGIN:STANDARD
TZOFFSETFROM:-0400
TZOFFSETTO:-0500
TZNAME:EST
DTSTART:20241103T060000
END:STANDARD
BEGIN:DAYLIGHT
TZOFFSETFROM:-0500
TZOFFSETTO:-0400
TZNAME:EDT
DTSTART:20250309T070000
END:DAYLIGHT
BEGIN:STANDARD
TZOFFSETFROM:-0400
TZOFFSETTO:-0500
TZNAME:EST
DTSTART:20251102T060000
END:STANDARD
BEGIN:DAYLIGHT
TZOFFSETFROM:-0500
TZOFFSETTO:-0400
TZNAME:EDT
DTSTART:20260308T070000
END:DAYLIGHT
BEGIN:STANDARD
TZOFFSETFROM:-0400
TZOFFSETTO:-0500
TZNAME:EST
DTSTART:20261101T060000
END:STANDARD
END:VTIMEZONE
BEGIN:VEVENT
DTSTART;TZID=America/Detroit:20250427T193000
DTEND;TZID=America/Detroit:20250427T230000
DTSTAMP:20260421T021409
CREATED:20241219T150000Z
LAST-MODIFIED:20250424T181314Z
UID:10000780-1745782200-1745794800@theark.org
SUMMARY:Lady Blackbird
DESCRIPTION:In every Lady Blackbird song is the unmistakable sound of freedom. Harnessing a mighty voice that effortlessly embodies buffeting power\, heartrending yearning and soft\, whispered balladry\, Lady Blackbird has imbued her compositions since 2021’s critically acclaimed debut Black Acid Soul with a journeying independence. Hers is an instantly-recognizable sound capable of evoking joy one moment and heartache the next\, a musical embrace of genres as varied as jazz\, classic soul\, gospel\, psychedelic rock and pop. It is the hallmark of a visionary voice\, on an Album that has landed on several ‘2024 Best Albums of the Year’ charts. Yet\, it is only now that she is embracing the full breadth of that musical freedom in her most personal and ambitious work to date: Slang Spirituals. \n“This is my journey of becoming\,” she explains. “It’s me rewriting the book to show the world who I truly am. From being labelled a sinner to finding my Acceptance.” Across 11 tracks Lady Blackbird puts her sweeping\, cinematic vocal power to use on everything from the soulful orchestral fanfares of “Let Not (Your Heart Be Troubled)” to the finger-picking folk storytelling of “Man On A Boat”\, euphoric gospel empowerment of “Like A Woman” and the seven-minute psychedelic soul instrumental of “When The Game Is Played On You.”
URL:https://theark.org/event/lady-blackbird-250427/
LOCATION:The Ark\, 316 S. Main\, Ann Arbor\, MI\, 48104\, United States
ATTACH;FMTTYPE=image/jpeg:https://theark.org/wp-content/uploads/2024/12/Lady-Blackbird-Studio0604_final-copy-scaled.jpg
END:VEVENT
END:VCALENDAR