BEGIN:VCALENDAR
VERSION:2.0
PRODID:-//The Ark - ECPv6.15.20//NONSGML v1.0//EN
CALSCALE:GREGORIAN
METHOD:PUBLISH
X-ORIGINAL-URL:https://theark.org
X-WR-CALDESC:Events for The Ark
REFRESH-INTERVAL;VALUE=DURATION:PT1H
X-Robots-Tag:noindex
X-PUBLISHED-TTL:PT1H
BEGIN:VTIMEZONE
TZID:America/Detroit
BEGIN:DAYLIGHT
TZOFFSETFROM:-0500
TZOFFSETTO:-0400
TZNAME:EDT
DTSTART:20240310T070000
END:DAYLIGHT
BEGIN:STANDARD
TZOFFSETFROM:-0400
TZOFFSETTO:-0500
TZNAME:EST
DTSTART:20241103T060000
END:STANDARD
BEGIN:DAYLIGHT
TZOFFSETFROM:-0500
TZOFFSETTO:-0400
TZNAME:EDT
DTSTART:20250309T070000
END:DAYLIGHT
BEGIN:STANDARD
TZOFFSETFROM:-0400
TZOFFSETTO:-0500
TZNAME:EST
DTSTART:20251102T060000
END:STANDARD
BEGIN:DAYLIGHT
TZOFFSETFROM:-0500
TZOFFSETTO:-0400
TZNAME:EDT
DTSTART:20260308T070000
END:DAYLIGHT
BEGIN:STANDARD
TZOFFSETFROM:-0400
TZOFFSETTO:-0500
TZNAME:EST
DTSTART:20261101T060000
END:STANDARD
END:VTIMEZONE
BEGIN:VEVENT
DTSTART;TZID=America/Detroit:20250310T200000
DTEND;TZID=America/Detroit:20250310T230000
DTSTAMP:20260423T080221
CREATED:20250109T150031Z
LAST-MODIFIED:20250307T200346Z
UID:10000786-1741636800-1741647600@theark.org
SUMMARY:The Nields
DESCRIPTION:The elevator at The Ark is out of service while technicians make repairs. Attendees for this show will need to be able to walk up and down the stairs to the second floor of The Ark where the show takes place. \nWith their unparalleled ability to blend pop craftsmanship\, folk sensibility\, and the influences of ’60s classic rock and ’90s alternative\, sisters Nerissa and Katryna Nields have created a distinctive musical style that defies categorization. Their songs\, imbued with intelligence and occasional humor\, offer poignant observations on life’s unexpected twists and turns. Apple Music describes their sound as “equal parts The Beatles\, the cranberries\, and Joni Mitchell\,” a testament to their unique fusion of melodic sensibilities. \nHaving earned their stripes with 21 albums\, major and independent record and publishing deals\, and performances alongside luminaries such as 10\,000 Maniacs\, The Band\, James Taylor\, and the Indigo Girls\, The Nields have unquestionably paid their dues\, paving their own path\, forging a remarkable musical legacy that continues to captivate audiences around the world. \nAttendance to this show is free for Ark Members at the Solo ($50) level and above!
URL:https://theark.org/event/the-nields-250310/
LOCATION:The Ark\, 316 S. Main\, Ann Arbor\, MI\, 48104\, United States
ATTACH;FMTTYPE=image/jpeg:https://theark.org/wp-content/uploads/2025/01/nieldsmanymirrors-2.jpg
END:VEVENT
END:VCALENDAR