BEGIN:VCALENDAR
VERSION:2.0
PRODID:-//The Ark - ECPv6.15.20//NONSGML v1.0//EN
CALSCALE:GREGORIAN
METHOD:PUBLISH
X-WR-CALNAME:The Ark
X-ORIGINAL-URL:https://theark.org
X-WR-CALDESC:Events for The Ark
REFRESH-INTERVAL;VALUE=DURATION:PT1H
X-Robots-Tag:noindex
X-PUBLISHED-TTL:PT1H
BEGIN:VTIMEZONE
TZID:America/Detroit
BEGIN:DAYLIGHT
TZOFFSETFROM:-0500
TZOFFSETTO:-0400
TZNAME:EDT
DTSTART:20240310T070000
END:DAYLIGHT
BEGIN:STANDARD
TZOFFSETFROM:-0400
TZOFFSETTO:-0500
TZNAME:EST
DTSTART:20241103T060000
END:STANDARD
BEGIN:DAYLIGHT
TZOFFSETFROM:-0500
TZOFFSETTO:-0400
TZNAME:EDT
DTSTART:20250309T070000
END:DAYLIGHT
BEGIN:STANDARD
TZOFFSETFROM:-0400
TZOFFSETTO:-0500
TZNAME:EST
DTSTART:20251102T060000
END:STANDARD
BEGIN:DAYLIGHT
TZOFFSETFROM:-0500
TZOFFSETTO:-0400
TZNAME:EDT
DTSTART:20260308T070000
END:DAYLIGHT
BEGIN:STANDARD
TZOFFSETFROM:-0400
TZOFFSETTO:-0500
TZNAME:EST
DTSTART:20261101T060000
END:STANDARD
END:VTIMEZONE
BEGIN:VEVENT
DTSTART;TZID=America/Detroit:20250201T200000
DTEND;TZID=America/Detroit:20250201T230000
DTSTAMP:20260422T190333
CREATED:20240718T163045Z
LAST-MODIFIED:20250131T194135Z
UID:10000654-1738440000-1738450800@theark.org
SUMMARY:Mindy Smith
DESCRIPTION:Good things\, it’s often said\, come to those who wait. And yet\, as one of the great poets of our time also famously observed\, the waiting is the hardest part. Both truths have been proven once again on the journey to singer-songwriter Mindy Smith’s sixth studio album\, Quiet Town\, which brings a treasured musical voice back into the spotlight.  \nA good rule of thumb when going to a Mindy Smith concert\, bring a hanky\, a tissue or an extra sleeve. Your tear ducts don’t know the difference between laughing tears and crying tears and you’ll likely be doing both. “Humor is how I compensate for singing so many sad tunes back-to-back\,” says Smith.  \nMindy Smith is a Long Island-born\, Americana award – winning\, Nashville based singer-songwriter with a clear and honest passion for Americana\, jazz\, pop\, rock\, blues\, and folk. As a recording artist\, she has sold over 750k albums and singles and amassed over 175 million streams to date. \nHer original songs have been recorded and released by the likes of Alison Krauss\, Lee Ann Womack\, Faith Hill and most recently Danny Burns ft Sam Bush. Most recently\, Smith was the featured vocalist on Kenny Chesney’s charting single\, “Better Boat”.  Says Chesney\, “if you just close your eyes and listen to her voice — I’m speaking for me –she brings calm\, she brings a sense that it’s all going to be all right” \nFans can look forward to hearing new songs from Quiet Town as well as beloved tracks from her previous albums during her live performances.
URL:https://theark.org/event/mindy-smith-250201/
LOCATION:The Ark\, 316 S. Main\, Ann Arbor\, MI\, 48104\, United States
ATTACH;FMTTYPE=image/jpeg:https://theark.org/wp-content/uploads/2024/07/Mindy-Smith_7163_web.jpg
END:VEVENT
END:VCALENDAR