BEGIN:VCALENDAR
VERSION:2.0
PRODID:-//The Ark - ECPv6.15.20//NONSGML v1.0//EN
CALSCALE:GREGORIAN
METHOD:PUBLISH
X-ORIGINAL-URL:https://theark.org
X-WR-CALDESC:Events for The Ark
REFRESH-INTERVAL;VALUE=DURATION:PT1H
X-Robots-Tag:noindex
X-PUBLISHED-TTL:PT1H
BEGIN:VTIMEZONE
TZID:America/Detroit
BEGIN:DAYLIGHT
TZOFFSETFROM:-0500
TZOFFSETTO:-0400
TZNAME:EDT
DTSTART:20240310T070000
END:DAYLIGHT
BEGIN:STANDARD
TZOFFSETFROM:-0400
TZOFFSETTO:-0500
TZNAME:EST
DTSTART:20241103T060000
END:STANDARD
BEGIN:DAYLIGHT
TZOFFSETFROM:-0500
TZOFFSETTO:-0400
TZNAME:EDT
DTSTART:20250309T070000
END:DAYLIGHT
BEGIN:STANDARD
TZOFFSETFROM:-0400
TZOFFSETTO:-0500
TZNAME:EST
DTSTART:20251102T060000
END:STANDARD
BEGIN:DAYLIGHT
TZOFFSETFROM:-0500
TZOFFSETTO:-0400
TZNAME:EDT
DTSTART:20260308T070000
END:DAYLIGHT
BEGIN:STANDARD
TZOFFSETFROM:-0400
TZOFFSETTO:-0500
TZNAME:EST
DTSTART:20261101T060000
END:STANDARD
END:VTIMEZONE
BEGIN:VEVENT
DTSTART;TZID=America/Detroit:20250130T200000
DTEND;TZID=America/Detroit:20250130T230000
DTSTAMP:20260421T145618
CREATED:20241024T130037Z
LAST-MODIFIED:20241023T131041Z
UID:10000733-1738267200-1738278000@theark.org
SUMMARY:Jax Hollow
DESCRIPTION:Jax Hollow is an untamable force of nature. Hailing from Nashville by way of Western Massachusetts\, The Berklee College Of Music graduate is bringing a much needed revival to rock with her fresh innocence and serious talent. Jax’s sound is a unique blend of Classic Rock\, Blues\, and Americana\, combined with songwriting\, riffs\, ripping solos\, and powerful vocals. Her debut record\, “Underdog Anthems” was produced and engineered by music legend Michael Wagener (over 100 million records sold). She was the last artist to work with him before his retirement in 2022. \nHer 2023 record “Only The Wild Ones”\, was championed by Sound Emporium CEO\, Juanita Copeland\, and recorded with some of Nashville’s finest studio musicians. Jax Hollow has a full page feature in Guitar World Magazine August 2023 edition\, as well as an album review in Rolling Stone France. \nShe opened for Melissa Etheridge at the famous Ryman Auditorium as a solo act\, receiving a standing ovation- and praise from Etheridge herself telling the crowd; “I want to be known as the one who discovered Jax Hollow!”\n\nJax has been the featured artist on Lightning 100’s “Artist of the Week”\, as well as major Spotify playlists including Modern Blues Rock\, and multiple features on Joe Bonamassa’s playlists. Opening for Marco Mendoza (Thin Lizzy) on her 2022 European tour\, she’s now heading her own full band 2023 European tour this November.
URL:https://theark.org/event/jax-hollow-250130/
LOCATION:The Ark\, 316 S. Main\, Ann Arbor\, MI\, 48104\, United States
ATTACH;FMTTYPE=image/jpeg:https://theark.org/wp-content/uploads/2024/10/JAX-HOLLOW_PromoPhotoC.jpg
END:VEVENT
END:VCALENDAR