BEGIN:VCALENDAR
VERSION:2.0
PRODID:-//The Ark - ECPv6.15.20//NONSGML v1.0//EN
CALSCALE:GREGORIAN
METHOD:PUBLISH
X-ORIGINAL-URL:https://theark.org
X-WR-CALDESC:Events for The Ark
REFRESH-INTERVAL;VALUE=DURATION:PT1H
X-Robots-Tag:noindex
X-PUBLISHED-TTL:PT1H
BEGIN:VTIMEZONE
TZID:America/Detroit
BEGIN:DAYLIGHT
TZOFFSETFROM:-0500
TZOFFSETTO:-0400
TZNAME:EDT
DTSTART:20240310T070000
END:DAYLIGHT
BEGIN:STANDARD
TZOFFSETFROM:-0400
TZOFFSETTO:-0500
TZNAME:EST
DTSTART:20241103T060000
END:STANDARD
BEGIN:DAYLIGHT
TZOFFSETFROM:-0500
TZOFFSETTO:-0400
TZNAME:EDT
DTSTART:20250309T070000
END:DAYLIGHT
BEGIN:STANDARD
TZOFFSETFROM:-0400
TZOFFSETTO:-0500
TZNAME:EST
DTSTART:20251102T060000
END:STANDARD
BEGIN:DAYLIGHT
TZOFFSETFROM:-0500
TZOFFSETTO:-0400
TZNAME:EDT
DTSTART:20260308T070000
END:DAYLIGHT
BEGIN:STANDARD
TZOFFSETFROM:-0400
TZOFFSETTO:-0500
TZNAME:EST
DTSTART:20261101T060000
END:STANDARD
END:VTIMEZONE
BEGIN:VEVENT
DTSTART;TZID=America/Detroit:20250129T200000
DTEND;TZID=America/Detroit:20250129T230000
DTSTAMP:20260419T220051
CREATED:20240814T161633Z
LAST-MODIFIED:20240814T161633Z
UID:10000674-1738180800-1738191600@theark.org
SUMMARY:Guster
DESCRIPTION:Not long before the making of their new album Ooh La La\, Guster celebrated three decades together as a band—a journey that’s included landing a series of hits on the Billboard charts\, working with luminaries like Steve Lillywhite and Richard Swift\, launching their own music festival\, and amassing an ardent fanbase partly on the strength of their relentless touring and deeply communal live show. But despite reaching a milestone few musical acts ever come close to attaining\, Guster’s ninth studio LP reveals a band fully in touch with the voracious creative energy that first inspired their formation. A major leap forward for lead vocalist Ryan Miller\, guitarist Adam Gardner\, drummer Brian Rosenworcel\, and multi-instrumentalist Luke Reynolds\, Ooh La La ultimately matches that wide-eyed spirit with a newly heightened sense of confidence\, conviction\, and commitment to the raw sincerity that’s made them so beloved.
URL:https://theark.org/event/guster-250129/
LOCATION:The Majestic Theatre\, 4140 Woodward Ave.\, Detroit\, Michigan\, 48201\, United States
CATEGORIES:Special Event
ATTACH;FMTTYPE=image/jpeg:https://theark.org/wp-content/uploads/2024/08/0129-Detroit-Guster-1920x1080-1.jpg
END:VEVENT
BEGIN:VEVENT
DTSTART;TZID=America/Detroit:20250129T200000
DTEND;TZID=America/Detroit:20250129T230000
DTSTAMP:20260419T220051
CREATED:20241213T150008Z
LAST-MODIFIED:20250129T160316Z
UID:10000772-1738180800-1738191600@theark.org
SUMMARY:Thornetta Davis
DESCRIPTION:The elevator at The Ark is out of service while technicians wait for a part to make repairs. Attendees for this show will need to be able to walk up and down the stairs to the second floor of The Ark where the show takes place. \nInternational singer\, songwriter and Independent recording artist\, was awarded by the Detroit Blues Society “Living Lifetime Achievement Award” and awarded a star on the Canada South Blues Museum “Walk of Fame”.  In 2015 Thornetta was crowned “Detroit’s Queen of the Blues” in a ceremony by the Detroit Blues Society\, with proclamations from the City of Detroit\, County of Wayne and the State of Michigan. She has performed with and opened for Bob Seger\, Blues Legends such as B.B. King\, Sir Mac Rice\, Ray Charles\, Etta James\, KoKo Taylor\, Johnny Johnson\, Bonnie Raitt and more.  \nThornetta is a ten time Blues Music Award Nominee including 2024 for best Soul/Blues Artist female and the Winner of the 2023 Blues Music Awards for Best Soul/Blues Artist Female. Thornetta is also winner of over 30 Detroit Music Awards. As winner of the 2017 Blues Blast Magazine Music Awards for “Best Soul/Blues Album\, Big City Rhythm & Blues Magazine “Coolest Blues Song” Thornetta garnered international attention by winning 1st place in the INTERNATIONAL SONGWRITING COMPETITION (ISC) for “Best Blues Song” (I Believe Everything is Gonna Be Alright) and also receiving the prestigious French 2018 La Academie du Jazz Award for “Best Blues Album” for Honest Woman.
URL:https://theark.org/event/thornetta-davis-250129/
LOCATION:The Ark\, 316 S. Main\, Ann Arbor\, MI\, 48104\, United States
CATEGORIES:Low Ticket Alert
ATTACH;FMTTYPE=image/jpeg:https://theark.org/wp-content/uploads/2024/12/Thornetta-e1734037667848.jpeg
END:VEVENT
END:VCALENDAR