BEGIN:VCALENDAR
VERSION:2.0
PRODID:-//The Ark - ECPv6.15.20//NONSGML v1.0//EN
CALSCALE:GREGORIAN
METHOD:PUBLISH
X-WR-CALNAME:The Ark
X-ORIGINAL-URL:https://theark.org
X-WR-CALDESC:Events for The Ark
REFRESH-INTERVAL;VALUE=DURATION:PT1H
X-Robots-Tag:noindex
X-PUBLISHED-TTL:PT1H
BEGIN:VTIMEZONE
TZID:America/Detroit
BEGIN:DAYLIGHT
TZOFFSETFROM:-0500
TZOFFSETTO:-0400
TZNAME:EDT
DTSTART:20230312T070000
END:DAYLIGHT
BEGIN:STANDARD
TZOFFSETFROM:-0400
TZOFFSETTO:-0500
TZNAME:EST
DTSTART:20231105T060000
END:STANDARD
BEGIN:DAYLIGHT
TZOFFSETFROM:-0500
TZOFFSETTO:-0400
TZNAME:EDT
DTSTART:20240310T070000
END:DAYLIGHT
BEGIN:STANDARD
TZOFFSETFROM:-0400
TZOFFSETTO:-0500
TZNAME:EST
DTSTART:20241103T060000
END:STANDARD
BEGIN:DAYLIGHT
TZOFFSETFROM:-0500
TZOFFSETTO:-0400
TZNAME:EDT
DTSTART:20250309T070000
END:DAYLIGHT
BEGIN:STANDARD
TZOFFSETFROM:-0400
TZOFFSETTO:-0500
TZNAME:EST
DTSTART:20251102T060000
END:STANDARD
END:VTIMEZONE
BEGIN:VEVENT
DTSTART;TZID=America/Detroit:20241118T200000
DTEND;TZID=America/Detroit:20241118T230000
DTSTAMP:20260421T084810
CREATED:20240806T130017Z
LAST-MODIFIED:20241007T171101Z
UID:10000663-1731960000-1731970800@theark.org
SUMMARY:Andrew Marlin Stringband
DESCRIPTION:Andrew Marlin is a songwriter and multi-instrumentalist based out of Chapel Hill\, NC. His latest solo record\, Phthalo Blue\, is out now! The album features all original music by Andrew\, recorded around one mic at The Tractor Shed in Goodlettsville\, TN. In addition to Marlin on mandolin\, the music showcases a slew of frequent collaborators including Stephanie Coleman (fiddle)\, Allison de Groot (banjo)\, Clint Mullican (bass)\, Josh Oliver (guitar)\, and Nat Smith (cello) – engineered by Sean Sullivan.  \nAlong with this new release\, and his three previous instrumental collections (Fable & Fire\, Witching Hour and Buried in a Cape) Marlin has produced six albums of original works of American roots music with Watchhouse\, has formed the bluegrass group Mighty Poplar (with collaborators Critter Eldridge\, Greg Garrison\, Alex Hargreaves and Noam Pikelny) and regularly contributes instrumental performances to other artists and albums. He’s recently played mandolin on recordings for Zach Bryan\, Tyler Childers\, Plains\, Dead Tongues and Phil Cook. Marlin is also an in-demand producer\, and has produced albums for artists including Mipso\, Kate Rhudy\, Rachel Baiman and Ismay. \nOver the last decade\, he has toured with all three of his projects throughout the U.S and Europe and appeared on high profile programs such CBS This Morning’s Saturday Morning Sessions\, NPR’s Tiny Desk Concert\, and headlined sold-out notable rooms including the Ryman and Red Rocks.
URL:https://theark.org/event/andrew-marlin-stringband-241118/
LOCATION:The Ark\, 316 S. Main\, Ann Arbor\, MI\, 48104\, United States
ATTACH;FMTTYPE=image/jpeg:https://theark.org/wp-content/uploads/2024/08/Andrew-Marlin-2024-scaled-e1722866685688.jpg
END:VEVENT
END:VCALENDAR