BEGIN:VCALENDAR
VERSION:2.0
PRODID:-//The Ark - ECPv6.15.20//NONSGML v1.0//EN
CALSCALE:GREGORIAN
METHOD:PUBLISH
X-ORIGINAL-URL:https://theark.org
X-WR-CALDESC:Events for The Ark
REFRESH-INTERVAL;VALUE=DURATION:PT1H
X-Robots-Tag:noindex
X-PUBLISHED-TTL:PT1H
BEGIN:VTIMEZONE
TZID:America/Detroit
BEGIN:DAYLIGHT
TZOFFSETFROM:-0500
TZOFFSETTO:-0400
TZNAME:EDT
DTSTART:20230312T070000
END:DAYLIGHT
BEGIN:STANDARD
TZOFFSETFROM:-0400
TZOFFSETTO:-0500
TZNAME:EST
DTSTART:20231105T060000
END:STANDARD
BEGIN:DAYLIGHT
TZOFFSETFROM:-0500
TZOFFSETTO:-0400
TZNAME:EDT
DTSTART:20240310T070000
END:DAYLIGHT
BEGIN:STANDARD
TZOFFSETFROM:-0400
TZOFFSETTO:-0500
TZNAME:EST
DTSTART:20241103T060000
END:STANDARD
BEGIN:DAYLIGHT
TZOFFSETFROM:-0500
TZOFFSETTO:-0400
TZNAME:EDT
DTSTART:20250309T070000
END:DAYLIGHT
BEGIN:STANDARD
TZOFFSETFROM:-0400
TZOFFSETTO:-0500
TZNAME:EST
DTSTART:20251102T060000
END:STANDARD
END:VTIMEZONE
BEGIN:VEVENT
DTSTART;TZID=America/Detroit:20241117T193000
DTEND;TZID=America/Detroit:20241117T230000
DTSTAMP:20260420T074628
CREATED:20240822T130007Z
LAST-MODIFIED:20241117T214625Z
UID:10000676-1731871800-1731884400@theark.org
SUMMARY:Cris Jacobs
DESCRIPTION:Due to a building issue\, tonight’s Cris Jacobs show has been canceled. We’re working on a rescheduled date\, and will notify ticket buyers once one has been confirmed. Hold on to your tickets – they will be good for the new date! \nFrom Baltimore comes Cris Jacobs—an unexpectedly gritty soul-blues singer and guitarist with outlaw country ethos. Blending a variety of musical traditions\, Jacobs creates a distinctive voice and sound of his own punctuated by emotive songwriting and explosive guitar playing. Equally at home playing heartfelt Americana ballads or funky blues rockers\, Jacobs is known for his mesmerizing live shows\, where his improvisational guitar playing\, powerhouse band\, and deep reservoir of songs make each night a unique experience. \nNamed one of Rolling Stone’s “10 New Country Artists You Need to Know” in 2017\, Jacobs has collaborated with the Grateful Dead’s Phil Lesh and Dumpstaphunk’s Ivan Neville\, and earned opening slots on tours with Sturgill Simpson and Steve Winwood. \nWith three solo albums to his name\, a collaborative record with Ivan Neville aptly titled “Neville Jacobs”\, songwriting credits that include bluegrass artists Audie Blaylock and Frank Solivan\, New Orleans funksters Dumpstaphunk\, and gospel legends Blind Boys of Alabama\, Jacobs continues to evolve and display his wide range of writing and performing prowess. “No matter the song”\, he says\, “I just like to keep it soulful and let the music speak for itself”
URL:https://theark.org/event/cris-jacobs-241117/
LOCATION:The Ark\, 316 S. Main\, Ann Arbor\, MI\, 48104\, United States
CATEGORIES:Postponed
ATTACH;FMTTYPE=image/jpeg:https://theark.org/wp-content/uploads/2024/08/CrisJacobs-press-_MG_4665OURPICKS.jpg
END:VEVENT
END:VCALENDAR