BEGIN:VCALENDAR
VERSION:2.0
PRODID:-//The Ark - ECPv6.15.20//NONSGML v1.0//EN
CALSCALE:GREGORIAN
METHOD:PUBLISH
X-WR-CALNAME:The Ark
X-ORIGINAL-URL:https://theark.org
X-WR-CALDESC:Events for The Ark
REFRESH-INTERVAL;VALUE=DURATION:PT1H
X-Robots-Tag:noindex
X-PUBLISHED-TTL:PT1H
BEGIN:VTIMEZONE
TZID:America/Detroit
BEGIN:DAYLIGHT
TZOFFSETFROM:-0500
TZOFFSETTO:-0400
TZNAME:EDT
DTSTART:20230312T070000
END:DAYLIGHT
BEGIN:STANDARD
TZOFFSETFROM:-0400
TZOFFSETTO:-0500
TZNAME:EST
DTSTART:20231105T060000
END:STANDARD
BEGIN:DAYLIGHT
TZOFFSETFROM:-0500
TZOFFSETTO:-0400
TZNAME:EDT
DTSTART:20240310T070000
END:DAYLIGHT
BEGIN:STANDARD
TZOFFSETFROM:-0400
TZOFFSETTO:-0500
TZNAME:EST
DTSTART:20241103T060000
END:STANDARD
BEGIN:DAYLIGHT
TZOFFSETFROM:-0500
TZOFFSETTO:-0400
TZNAME:EDT
DTSTART:20250309T070000
END:DAYLIGHT
BEGIN:STANDARD
TZOFFSETFROM:-0400
TZOFFSETTO:-0500
TZNAME:EST
DTSTART:20251102T060000
END:STANDARD
END:VTIMEZONE
BEGIN:VEVENT
DTSTART;TZID=America/Detroit:20241115T200000
DTEND;TZID=America/Detroit:20241115T230000
DTSTAMP:20260420T061015
CREATED:20240516T130047Z
LAST-MODIFIED:20240916T172938Z
UID:10000613-1731700800-1731711600@theark.org
SUMMARY:Riders in the Sky
DESCRIPTION:For more than forty years\, Riders In The Sky have been keepers of the flame passed on by the Sons of the Pioneers\, Gene Autry and Roy Rogers\, reviving and revitalizing Western music. And while remaining true to the integrity of the genre\, they have themselves become modern-day icons by branding it with their own legendary wacky humor and way-out Western wit\, and all along encouraging buckaroos and buckarettes to live life “The Cowboy Way!” \nRiders In The Sky are stars of the stage\, screen\, the Grand Ole Opry\, National Public Radio\, Sirius/XM Satellite Radio\, Saturday morning TV\, and are the only exclusively Western artist to have won a Grammy Award. They truly are “America’s Favorite Cowboys!
URL:https://theark.org/event/riders-in-the-sky-241115/
LOCATION:The Ark\, 316 S. Main\, Ann Arbor\, MI\, 48104\, United States
ATTACH;FMTTYPE=image/jpeg:https://theark.org/wp-content/uploads/2022/12/Riders-In-The-Sky.jpg
END:VEVENT
END:VCALENDAR