BEGIN:VCALENDAR
VERSION:2.0
PRODID:-//The Ark - ECPv6.15.20//NONSGML v1.0//EN
CALSCALE:GREGORIAN
METHOD:PUBLISH
X-ORIGINAL-URL:https://theark.org
X-WR-CALDESC:Events for The Ark
REFRESH-INTERVAL;VALUE=DURATION:PT1H
X-Robots-Tag:noindex
X-PUBLISHED-TTL:PT1H
BEGIN:VTIMEZONE
TZID:America/Detroit
BEGIN:DAYLIGHT
TZOFFSETFROM:-0500
TZOFFSETTO:-0400
TZNAME:EDT
DTSTART:20230312T070000
END:DAYLIGHT
BEGIN:STANDARD
TZOFFSETFROM:-0400
TZOFFSETTO:-0500
TZNAME:EST
DTSTART:20231105T060000
END:STANDARD
BEGIN:DAYLIGHT
TZOFFSETFROM:-0500
TZOFFSETTO:-0400
TZNAME:EDT
DTSTART:20240310T070000
END:DAYLIGHT
BEGIN:STANDARD
TZOFFSETFROM:-0400
TZOFFSETTO:-0500
TZNAME:EST
DTSTART:20241103T060000
END:STANDARD
BEGIN:DAYLIGHT
TZOFFSETFROM:-0500
TZOFFSETTO:-0400
TZNAME:EDT
DTSTART:20250309T070000
END:DAYLIGHT
BEGIN:STANDARD
TZOFFSETFROM:-0400
TZOFFSETTO:-0500
TZNAME:EST
DTSTART:20251102T060000
END:STANDARD
END:VTIMEZONE
BEGIN:VEVENT
DTSTART;TZID=America/Detroit:20241104T200000
DTEND;TZID=America/Detroit:20241104T230000
DTSTAMP:20260422T012037
CREATED:20240822T130043Z
LAST-MODIFIED:20241029T144525Z
UID:10000680-1730750400-1730761200@theark.org
SUMMARY:Laura Cortese & The Dance Cards
DESCRIPTION:Laura Cortese has built a career weaving together a musical tapestry as diverse as it is masterful\, highlighted with experiences like playing the Newport Folk Festival with Pete Seeger in 2009\, standing onstage at the iconic Carnegie Hall in New York with Band of Horses in 2009\, and a stint touring alongside Uncle Earl in 2007. She has recorded with artists ranging from Aoife O’Donovan and Brittany Haas to Rose Cousins and Session Americana\, and has released 7 albums under her own name. She has toured across the globe\, acting as an ambassador of American music on behalf of the US State Department by performing and teaching in India\, Kazakhstan\, Uzbekistan\, Bangladesh\, Estonia\, Greece\, Ukraine\, and Montenegro. In July 2020 she was on the cover of Strings Magazine.\n 
URL:https://theark.org/event/laura-cortese-the-dance-cards-241104/
LOCATION:The Ark\, 316 S. Main\, Ann Arbor\, MI\, 48104\, United States
ATTACH;FMTTYPE=image/png:https://theark.org/wp-content/uploads/2024/08/LauraCortese.png
END:VEVENT
END:VCALENDAR