BEGIN:VCALENDAR
VERSION:2.0
PRODID:-//The Ark - ECPv6.15.20//NONSGML v1.0//EN
CALSCALE:GREGORIAN
METHOD:PUBLISH
X-ORIGINAL-URL:https://theark.org
X-WR-CALDESC:Events for The Ark
REFRESH-INTERVAL;VALUE=DURATION:PT1H
X-Robots-Tag:noindex
X-PUBLISHED-TTL:PT1H
BEGIN:VTIMEZONE
TZID:America/Detroit
BEGIN:DAYLIGHT
TZOFFSETFROM:-0500
TZOFFSETTO:-0400
TZNAME:EDT
DTSTART:20230312T070000
END:DAYLIGHT
BEGIN:STANDARD
TZOFFSETFROM:-0400
TZOFFSETTO:-0500
TZNAME:EST
DTSTART:20231105T060000
END:STANDARD
BEGIN:DAYLIGHT
TZOFFSETFROM:-0500
TZOFFSETTO:-0400
TZNAME:EDT
DTSTART:20240310T070000
END:DAYLIGHT
BEGIN:STANDARD
TZOFFSETFROM:-0400
TZOFFSETTO:-0500
TZNAME:EST
DTSTART:20241103T060000
END:STANDARD
BEGIN:DAYLIGHT
TZOFFSETFROM:-0500
TZOFFSETTO:-0400
TZNAME:EDT
DTSTART:20250309T070000
END:DAYLIGHT
BEGIN:STANDARD
TZOFFSETFROM:-0400
TZOFFSETTO:-0500
TZNAME:EST
DTSTART:20251102T060000
END:STANDARD
END:VTIMEZONE
BEGIN:VEVENT
DTSTART;TZID=America/Detroit:20241102T200000
DTEND;TZID=America/Detroit:20241102T230000
DTSTAMP:20260420T023548
CREATED:20240516T130012Z
LAST-MODIFIED:20240516T161533Z
UID:10000612-1730577600-1730588400@theark.org
SUMMARY:Natalie & Brittany Haas with Nic Gareiss
DESCRIPTION:Sisters Natalie (cello) and Brittany (fiddle) Haas began their musical lives together\, filling their childhood home with Bach suites and old-time tunes alike. It was on their own\, however-following divergent paths through disparate musical traditions\, countries\, and cultures-that they both arrived as virtuosi and composers at the highest levels of contemporary string music. Fans of acoustic music can hardly mention one without referencing the other’s work. With HAAS\, these singular musicians finally record together – in duo form – for the first time. It is a collaboration a lifetime in the making\, and a music encompassing travels through time and through the world From Nashville to Norway\, the Celtic Isles to California\, Natalie and Brittany have absorbed\, adapted\, and made their own world of music. The result? HAAS. \nNamed one of Dance Magazine’s “25 to Watch\,” Nic Gareiss (he/they) has been hailed by the New York Times for his “dexterous melding of Irish and Appalachian dance” and called “the most inventive and expressive step dancer on the scene” by the Boston Herald. Nic has earned numerous accolades including a Canadian Folk Music Award nomination for traditional singer of the year and the Michigan Heritage Award\, the state’s highest distinction bestowed on traditional artists. Always jubilant\, often puckishly queer\, Nic Gareiss has emerged as one of the most beloved and singular performers of contemporary traditional dance and music.
URL:https://theark.org/event/natalie-brittany-haas-241102/
LOCATION:The Ark\, 316 S. Main\, Ann Arbor\, MI\, 48104\, United States
ATTACH;FMTTYPE=image/png:https://theark.org/wp-content/uploads/2024/05/NatalieBrittany-HaasNic-Gareiss-scaled-1.png
END:VEVENT
END:VCALENDAR