BEGIN:VCALENDAR
VERSION:2.0
PRODID:-//The Ark - ECPv6.15.20//NONSGML v1.0//EN
CALSCALE:GREGORIAN
METHOD:PUBLISH
X-WR-CALNAME:The Ark
X-ORIGINAL-URL:https://theark.org
X-WR-CALDESC:Events for The Ark
REFRESH-INTERVAL;VALUE=DURATION:PT1H
X-Robots-Tag:noindex
X-PUBLISHED-TTL:PT1H
BEGIN:VTIMEZONE
TZID:America/Detroit
BEGIN:DAYLIGHT
TZOFFSETFROM:-0500
TZOFFSETTO:-0400
TZNAME:EDT
DTSTART:20230312T070000
END:DAYLIGHT
BEGIN:STANDARD
TZOFFSETFROM:-0400
TZOFFSETTO:-0500
TZNAME:EST
DTSTART:20231105T060000
END:STANDARD
BEGIN:DAYLIGHT
TZOFFSETFROM:-0500
TZOFFSETTO:-0400
TZNAME:EDT
DTSTART:20240310T070000
END:DAYLIGHT
BEGIN:STANDARD
TZOFFSETFROM:-0400
TZOFFSETTO:-0500
TZNAME:EST
DTSTART:20241103T060000
END:STANDARD
BEGIN:DAYLIGHT
TZOFFSETFROM:-0500
TZOFFSETTO:-0400
TZNAME:EDT
DTSTART:20250309T070000
END:DAYLIGHT
BEGIN:STANDARD
TZOFFSETFROM:-0400
TZOFFSETTO:-0500
TZNAME:EST
DTSTART:20251102T060000
END:STANDARD
END:VTIMEZONE
BEGIN:VEVENT
DTSTART;TZID=America/Detroit:20241101T200000
DTEND;TZID=America/Detroit:20241101T230000
DTSTAMP:20260421T072300
CREATED:20240516T130053Z
LAST-MODIFIED:20241016T123610Z
UID:10000611-1730491200-1730502000@theark.org
SUMMARY:Shane Koyczan
DESCRIPTION:Internationally recognized author and spoken word artist Shane Koyczan has emerged as a creator of poetry that dares to belong to the people and speak directly to them in their own voice. In 2013\, he collaborated with animators to make the anti-bullying viral video “To This Day” which has had over 13 million views\, and he performed a customized version “For the Bullied and the Beautiful” to acclaim at the 2013 International TED Conference in Long Beach\, California. Shane shapes his words and delivers in multi mediums from authored\, video\, spoken word\, operatic\, and musically performed. \nDerrick C. Brown is a poet\, novelist\, comedian\, and storyteller. In 2023\, Paste Magazine named his Comedy and Poetry Record ‘Album of the Year.’ He is the winner of the Texas Book of The Year award for Poetry. The New York Times calls his work “…a rekindling of faith in the weird\, hilarious\, shocking\, beautiful power of words.”
URL:https://theark.org/event/shane-koyczan-241101/
LOCATION:The Ark\, 316 S. Main\, Ann Arbor\, MI\, 48104\, United States
ATTACH;FMTTYPE=image/jpeg:https://theark.org/wp-content/uploads/2024/05/Shane-Koyczan-24-web.jpg
END:VEVENT
END:VCALENDAR