BEGIN:VCALENDAR
VERSION:2.0
PRODID:-//The Ark - ECPv6.15.20//NONSGML v1.0//EN
CALSCALE:GREGORIAN
METHOD:PUBLISH
X-ORIGINAL-URL:https://theark.org
X-WR-CALDESC:Events for The Ark
REFRESH-INTERVAL;VALUE=DURATION:PT1H
X-Robots-Tag:noindex
X-PUBLISHED-TTL:PT1H
BEGIN:VTIMEZONE
TZID:America/Detroit
BEGIN:DAYLIGHT
TZOFFSETFROM:-0500
TZOFFSETTO:-0400
TZNAME:EDT
DTSTART:20230312T070000
END:DAYLIGHT
BEGIN:STANDARD
TZOFFSETFROM:-0400
TZOFFSETTO:-0500
TZNAME:EST
DTSTART:20231105T060000
END:STANDARD
BEGIN:DAYLIGHT
TZOFFSETFROM:-0500
TZOFFSETTO:-0400
TZNAME:EDT
DTSTART:20240310T070000
END:DAYLIGHT
BEGIN:STANDARD
TZOFFSETFROM:-0400
TZOFFSETTO:-0500
TZNAME:EST
DTSTART:20241103T060000
END:STANDARD
BEGIN:DAYLIGHT
TZOFFSETFROM:-0500
TZOFFSETTO:-0400
TZNAME:EDT
DTSTART:20250309T070000
END:DAYLIGHT
BEGIN:STANDARD
TZOFFSETFROM:-0400
TZOFFSETTO:-0500
TZNAME:EST
DTSTART:20251102T060000
END:STANDARD
END:VTIMEZONE
BEGIN:VEVENT
DTSTART;TZID=America/Detroit:20241030T200000
DTEND;TZID=America/Detroit:20241030T230000
DTSTAMP:20260419T162522
CREATED:20240430T130017Z
LAST-MODIFIED:20241023T152715Z
UID:10000588-1730318400-1730329200@theark.org
SUMMARY:Dave Alvin & Jimmie Dale Gilmore with The Guilty Ones
DESCRIPTION:When Grammy winner Dave Alvin and Grammy nominee Jimmie Dale Gilmore made the album Downey To Lubbock together in 2018\, they wrote the title track as a sort of mission statement. “I know someday this old highway’s gonna come to an end\,” Alvin sings near the song’s conclusion. Gilmore answers: “But I know when it does you’re going to be my friend.” Six years later\, they’re serving notice that the old highway hasn’t ended yet. “We’re still standing\, no matter what you might hear\,” they sing on “We’re Still Here\,” the final track to their new album Texicali. Due out Jun 21\, 2024 on Yep Roc Records\, Texicali continues to bridge the distance between the two troubadours’ respective home bases of California (Alvin) and Texas (Gilmore). \nThe album’s geographic theme reflects Alvin’s repeated journeys to record in Central Texas with Gilmore and the Austin-based backing band that has toured with the duo for the past few years. The 11 songs on Texicali also connect the duo’s shared fondness for a broad range of American music forms. On their own\, both have been prominent artists for decades. A philosophical songwriter with a captivating\, almost mystical voice\, Gilmore co-founded influential Lubbock group the Flatlanders in the early 1970s. Alvin first drew attention as a firebrand guitarist and budding young songwriter with Los Angeles roots-rockers the Blasters in the early 1980s. \nGilmore is primarily known for left-of-center country music\, while Alvin’s compass points largely toward old-school blues. But there’s a lot of ground to cover beyond those foundations\, and both artists also are well-known for transcending genre limitations. So it’s not surprising that they’ve spiked Texicali with cosmic folk narratives\, deep R&B grooves and even swinging reggae rhythms. 
URL:https://theark.org/event/dave-alvin-jimmie-dale-gilmore-241030/
LOCATION:The Ark\, 316 S. Main\, Ann Arbor\, MI\, 48104\, United States
CATEGORIES:Sold Out
ATTACH;FMTTYPE=image/jpeg:https://theark.org/wp-content/uploads/2024/04/Dave-Alvin-Jimmie-Dale-Gilmore-w-The-Guilty-Ones-1-Credit-Leslie-Campbell-e1714415088883.jpg
END:VEVENT
END:VCALENDAR