BEGIN:VCALENDAR
VERSION:2.0
PRODID:-//The Ark - ECPv6.15.20//NONSGML v1.0//EN
CALSCALE:GREGORIAN
METHOD:PUBLISH
X-WR-CALNAME:The Ark
X-ORIGINAL-URL:https://theark.org
X-WR-CALDESC:Events for The Ark
REFRESH-INTERVAL;VALUE=DURATION:PT1H
X-Robots-Tag:noindex
X-PUBLISHED-TTL:PT1H
BEGIN:VTIMEZONE
TZID:America/Detroit
BEGIN:DAYLIGHT
TZOFFSETFROM:-0500
TZOFFSETTO:-0400
TZNAME:EDT
DTSTART:20230312T070000
END:DAYLIGHT
BEGIN:STANDARD
TZOFFSETFROM:-0400
TZOFFSETTO:-0500
TZNAME:EST
DTSTART:20231105T060000
END:STANDARD
BEGIN:DAYLIGHT
TZOFFSETFROM:-0500
TZOFFSETTO:-0400
TZNAME:EDT
DTSTART:20240310T070000
END:DAYLIGHT
BEGIN:STANDARD
TZOFFSETFROM:-0400
TZOFFSETTO:-0500
TZNAME:EST
DTSTART:20241103T060000
END:STANDARD
BEGIN:DAYLIGHT
TZOFFSETFROM:-0500
TZOFFSETTO:-0400
TZNAME:EDT
DTSTART:20250309T070000
END:DAYLIGHT
BEGIN:STANDARD
TZOFFSETFROM:-0400
TZOFFSETTO:-0500
TZNAME:EST
DTSTART:20251102T060000
END:STANDARD
END:VTIMEZONE
BEGIN:VEVENT
DTSTART;TZID=America/Detroit:20241028T200000
DTEND;TZID=America/Detroit:20241028T230000
DTSTAMP:20260420T100241
CREATED:20240926T130016Z
LAST-MODIFIED:20240925T175127Z
UID:10000699-1730145600-1730156400@theark.org
SUMMARY:Voices featuring Kenyatta Rashon and Gwenyth Hayes
DESCRIPTION:Gwenyth Hayes\, a bassist\, song stylist\, vocalist\, and recording artist hailing from Ann Arbor\, captivates audiences throughout the Metro Detroit area with her distinctive performances. Gwenyth’s unique reinterpretations showcase a fusion of classic tunes and soulful covers & contemporary originals across various genres that are centered around her sultry vocals\, groove-infused bass lines\, improvisation\, and tight instrumental arrangements.  \nBorn and raised in Ypsilanti\, Kenyatta Rashon began her career in musical theater at age 16. Hip Hop and R&B are her first loves. She has shared her gift from the boardwalks of Venice beach to the subways of Harlem. Finally\, closing 2019 with the opportunity to sing with Kanye West’s Sunday Service in Detroit\, as well as being featured in the November issue of The Michigan Chronicle. Kenyatta hopes to be as inspirational as those who have inspired her such as Amy Winehouse\, Beyoncé\, Erykah Badu\, Aretha Franklin\, Mary J. Blige and that’s just to name a few. \nVoices is a series of artist-cultivated concerts at The Ark conceived and created by Ann Arbor musician Kyler Wilkins\, AKA vocal looping artist Ki5. The series seeks to expand the representation of Michigan BIPOC artists and audiences at The Ark. Each show\, intentional time will be taken to get to know each artist in the form of brief interviews and musical breaks to have them speak about their journey as musicians and performers with the hope that people in the audience are more connected to and inspired by those voices. \nPhoto credit Dori Sumter
URL:https://theark.org/event/voices-featuring-kenyatta-rashon-and-gwenyth-hayes/
LOCATION:The Ark\, 316 S. Main\, Ann Arbor\, MI\, 48104\, United States
ATTACH;FMTTYPE=image/png:https://theark.org/wp-content/uploads/2024/09/Voices-IGS-241028-e1727290277145.png
END:VEVENT
END:VCALENDAR