BEGIN:VCALENDAR
VERSION:2.0
PRODID:-//The Ark - ECPv6.15.20//NONSGML v1.0//EN
CALSCALE:GREGORIAN
METHOD:PUBLISH
X-ORIGINAL-URL:https://theark.org
X-WR-CALDESC:Events for The Ark
REFRESH-INTERVAL;VALUE=DURATION:PT1H
X-Robots-Tag:noindex
X-PUBLISHED-TTL:PT1H
BEGIN:VTIMEZONE
TZID:America/Detroit
BEGIN:DAYLIGHT
TZOFFSETFROM:-0500
TZOFFSETTO:-0400
TZNAME:EDT
DTSTART:20230312T070000
END:DAYLIGHT
BEGIN:STANDARD
TZOFFSETFROM:-0400
TZOFFSETTO:-0500
TZNAME:EST
DTSTART:20231105T060000
END:STANDARD
BEGIN:DAYLIGHT
TZOFFSETFROM:-0500
TZOFFSETTO:-0400
TZNAME:EDT
DTSTART:20240310T070000
END:DAYLIGHT
BEGIN:STANDARD
TZOFFSETFROM:-0400
TZOFFSETTO:-0500
TZNAME:EST
DTSTART:20241103T060000
END:STANDARD
BEGIN:DAYLIGHT
TZOFFSETFROM:-0500
TZOFFSETTO:-0400
TZNAME:EDT
DTSTART:20250309T070000
END:DAYLIGHT
BEGIN:STANDARD
TZOFFSETFROM:-0400
TZOFFSETTO:-0500
TZNAME:EST
DTSTART:20251102T060000
END:STANDARD
END:VTIMEZONE
BEGIN:VEVENT
DTSTART;TZID=America/Detroit:20241026T200000
DTEND;TZID=America/Detroit:20241026T230000
DTSTAMP:20260419T140818
CREATED:20240516T130047Z
LAST-MODIFIED:20241018T182032Z
UID:10000608-1729972800-1729983600@theark.org
SUMMARY:Yasmin Williams
DESCRIPTION:Yasmin Williams’ performance at The Ark in Ann Arbor\, originally scheduled for Saturday\, October 26\, has been rescheduled to Friday\, January 31\, 2025. All tickets purchased for the October show will be honored for the new date. If you can’t make it to the new date\, please contact the original point of purchase for a refund by November 18th. We sincerely apologize for any inconvenience this may cause and appreciate your understanding. Yasmin looks forward to sharing an incredible night of music with you in January! Thank you for your support!  \nBased in Alexandria\, VA\, Yasmin Williams is an acoustic fingerstyle guitarist and film composer. She has an unorthodox\, modern style of guitar playing and utilizes various techniques including alternate tunings\, percussive hits\, and lap tapping in her music to great effect. Her “radiant sound and adventitious origins have made her a key figure in a diverse dawn for the solo guitar” (The New York Times). Williams’s music has been described as rich\, harmonious\, and “in a lot of ways\, the joy and possibility she brings to the guitar reminds me more of Eddie Van Halen than any of the other fingerstyle guitarists to whom she’s compared” (NPR Music). \nHer latest album\, Urban Driftwood\, has received critical acclaim from numerous major publications including The New York Times\, Pitchfork\, Rolling Stone\, The Washington Post\, NPR Music\, The Fader\, Wallstreet Journal\, AllMusic\, Paste Magazine\, No Depression\, and several other outlets. She was listed as one of the “25 New and Rising Artists Shaping the Future of Music in 2023” by Pitchfork. Most recently\, Williams signed to Nonesuch Records and released a new single\, titled Dawning\, featuring Aoife O’Donovan on vocals\, Kafari on rhythm bones\, and Nic Gareiss on flat foot percussion. \nLocal trio\, Brawny Lad\, opens.
URL:https://theark.org/event/yasmin-williams-241026/
LOCATION:The Ark\, 316 S. Main\, Ann Arbor\, MI\, 48104\, United States
CATEGORIES:Postponed
ATTACH;FMTTYPE=image/jpeg:https://theark.org/wp-content/uploads/2024/05/Yasmin-Williams.jpg
END:VEVENT
END:VCALENDAR