BEGIN:VCALENDAR
VERSION:2.0
PRODID:-//The Ark - ECPv6.15.20//NONSGML v1.0//EN
CALSCALE:GREGORIAN
METHOD:PUBLISH
X-ORIGINAL-URL:https://theark.org
X-WR-CALDESC:Events for The Ark
REFRESH-INTERVAL;VALUE=DURATION:PT1H
X-Robots-Tag:noindex
X-PUBLISHED-TTL:PT1H
BEGIN:VTIMEZONE
TZID:America/Detroit
BEGIN:DAYLIGHT
TZOFFSETFROM:-0500
TZOFFSETTO:-0400
TZNAME:EDT
DTSTART:20230312T070000
END:DAYLIGHT
BEGIN:STANDARD
TZOFFSETFROM:-0400
TZOFFSETTO:-0500
TZNAME:EST
DTSTART:20231105T060000
END:STANDARD
BEGIN:DAYLIGHT
TZOFFSETFROM:-0500
TZOFFSETTO:-0400
TZNAME:EDT
DTSTART:20240310T070000
END:DAYLIGHT
BEGIN:STANDARD
TZOFFSETFROM:-0400
TZOFFSETTO:-0500
TZNAME:EST
DTSTART:20241103T060000
END:STANDARD
BEGIN:DAYLIGHT
TZOFFSETFROM:-0500
TZOFFSETTO:-0400
TZNAME:EDT
DTSTART:20250309T070000
END:DAYLIGHT
BEGIN:STANDARD
TZOFFSETFROM:-0400
TZOFFSETTO:-0500
TZNAME:EST
DTSTART:20251102T060000
END:STANDARD
END:VTIMEZONE
BEGIN:VEVENT
DTSTART;TZID=America/Detroit:20241025T200000
DTEND;TZID=America/Detroit:20241025T230000
DTSTAMP:20260421T173840
CREATED:20240220T150038Z
LAST-MODIFIED:20241002T180018Z
UID:10000500-1729886400-1729897200@theark.org
SUMMARY:Steve Poltz
DESCRIPTION:Steve Poltz is not normal. He was born in Halifax\, Nova Scotia\, but has lived most of his life in southern California\, and those geographic poles are quite likely responsible for his unhinged genius. With a cult following that includes fellow musicians\, regular folks and festival goers who stumble onto his performances\, there’s no common denominator to Steve’s fans. Steve toured and recorded with San Diego cult favorites The Rugburns (they still play annual sold-out reunion shows). But it was through his creative partnership with Jewel that he vaulted into the national spotlight; co-writing her multiplatinum Billboard Hot 100-busting smash\, “You Were Meant For Me\,” and continues to work with her to this day. \nOver the years\, Steve has built a fascinating solo catalog. No Depression crowned him\, “A sardonic provocateur with a lighthearted acoustic-driven wit\, suggesting at times a sunnier\, less psychedelic Todd Snider\, or maybe a less wan\, washed Jackson Brown.” Among other collaborations\, GRAMMY-winning bluegrass phenom Billy Strings tapped him to co-write “Leaders” on 2021’s Renewal and he’s co-written with Molly Tuttle\, Sierra Hull\, Nicki Bluhm\, Oliver Wood and even Mojo Nixon. \nSteve’s newest album is Stardust & Satellites\, produced by Oliver Wood and Jano Rix of The Wood Brothers. 
URL:https://theark.org/event/steve-poltz-241025/
LOCATION:The Ark\, 316 S. Main\, Ann Arbor\, MI\, 48104\, United States
CATEGORIES:Sold Out
ATTACH;FMTTYPE=image/jpeg:https://theark.org/wp-content/uploads/2024/02/Steve-poltz-Press-3-credit-Jeff-Fansano-web.jpg
END:VEVENT
END:VCALENDAR