BEGIN:VCALENDAR
VERSION:2.0
PRODID:-//The Ark - ECPv6.15.20//NONSGML v1.0//EN
CALSCALE:GREGORIAN
METHOD:PUBLISH
X-WR-CALNAME:The Ark
X-ORIGINAL-URL:https://theark.org
X-WR-CALDESC:Events for The Ark
REFRESH-INTERVAL;VALUE=DURATION:PT1H
X-Robots-Tag:noindex
X-PUBLISHED-TTL:PT1H
BEGIN:VTIMEZONE
TZID:America/Detroit
BEGIN:DAYLIGHT
TZOFFSETFROM:-0500
TZOFFSETTO:-0400
TZNAME:EDT
DTSTART:20230312T070000
END:DAYLIGHT
BEGIN:STANDARD
TZOFFSETFROM:-0400
TZOFFSETTO:-0500
TZNAME:EST
DTSTART:20231105T060000
END:STANDARD
BEGIN:DAYLIGHT
TZOFFSETFROM:-0500
TZOFFSETTO:-0400
TZNAME:EDT
DTSTART:20240310T070000
END:DAYLIGHT
BEGIN:STANDARD
TZOFFSETFROM:-0400
TZOFFSETTO:-0500
TZNAME:EST
DTSTART:20241103T060000
END:STANDARD
BEGIN:DAYLIGHT
TZOFFSETFROM:-0500
TZOFFSETTO:-0400
TZNAME:EDT
DTSTART:20250309T070000
END:DAYLIGHT
BEGIN:STANDARD
TZOFFSETFROM:-0400
TZOFFSETTO:-0500
TZNAME:EST
DTSTART:20251102T060000
END:STANDARD
END:VTIMEZONE
BEGIN:VEVENT
DTSTART;TZID=America/Detroit:20241023T200000
DTEND;TZID=America/Detroit:20241023T230000
DTSTAMP:20260421T214636
CREATED:20240425T130057Z
LAST-MODIFIED:20240424T135709Z
UID:10000583-1729713600-1729724400@theark.org
SUMMARY:Both Sides Now: The Music and Lives of Joni Mitchell and Leonard Cohen
DESCRIPTION:“Two singer-songwriters sit on the edge of a cliff . . .” \nWith these words\, we are drawn into the world of Both Sides Now\, a theatrical concert that explores the music and lives of long-time friends and one-time lovers\, Joni Mitchell and Leonard Cohen. Created by\, and starring Robbie Schaefer and Danielle Wertz\, the cabaret-style performance travels decades alongside songs such as A Case of You\, Hallelujah\, Big Yellow Taxi\, Suzanne\, and many more. Both Sides Now is at once a piece of the 60’s and 70’s\, and of right now–offering us a story about the messiness of being human\, of lives persistently lived at the edge of growth\, and of finding the courage to turn toward one another\, again and again.
URL:https://theark.org/event/both-sides-now-the-music-and-lives-of-joni-mitchell-and-leonard-cohen/
LOCATION:The Ark\, 316 S. Main\, Ann Arbor\, MI\, 48104\, United States
ATTACH;FMTTYPE=image/jpeg:https://theark.org/wp-content/uploads/2024/04/BothSidesNow-e1713970617557.jpg
END:VEVENT
BEGIN:VEVENT
DTSTART;TZID=America/Detroit:20241023T200000
DTEND;TZID=America/Detroit:20241023T230000
DTSTAMP:20260421T214636
CREATED:20240507T130038Z
LAST-MODIFIED:20241021T161508Z
UID:10000589-1729713600-1729724400@theark.org
SUMMARY:David Cross
DESCRIPTION:Emmy Award winner and two-time Grammy Award nominee\, David Cross is an inventive performer\, writer\, and producer on stage and screen. David’s eighth stand-up special\, David Cross: Worst Daddy In The World\, is available on the 800 Pound Gorilla Media YouTube channel\, and he will join the cast of the Netflix series\, The Umbrella Academy\, for their fourth and final season premiering August 8. \nDavid hosts the new podcast\, Senses Working Overtime With David Cross\, which premiered on December 7\, 2023 with new episodes released on Thursdays available on all audio platforms and video available on David’s YouTube page. \nIn 2023\, David was seen in the Julia Louis-Dreyfus film\, You Hurt My Feelings\, and the FX series\, Justified: City Primeval.  In 2021\, Cross starred in the National Geographic series\, Genius: Aretha\, portraying famed music producer\, Jerry Wexler opposite Cynthia Erivo as Aretha Franklin; he made guest appearances in the\, critically-acclaimed HBO Max miniseries\, Station Eleven; and starred in the HBO Max film\, 8-Bit Christmas. \nOn February 12\, 2022\, David premiered his comedy special\, David Cross: I’m From The Future\, as a livestream event available internationally on his website.  David’s 2019 comedy special\, David Cross: Oh Come On\, is available on Amazon Prime and Peacock. \nDavid was nominated for two Grammy Awards for the albums\, …America…Great\, and Shut Up You F***ing Baby\, and his comedy special\, David Cross: The Pride is Back\, was named one of the 25 best stand-up comedy specials and concert films of all time by Rolling Stone in July 2015. \nOther groundbreaking TV credits include Arrested Development\, Goliath\, The Increasingly Poor Decisions of Todd Margaret\, Mr. Show with Bob and David\, Freak Show\, and The Ben Stiller Show. In 2020\, David received rave reviews for his starring role in the dramatic film\, The Dark Divide\, and in 2018\, he was part of the ensemble cast with Tom Hanks and Meryl Streep in Steven Spielberg’s The Post.  David released the indie film Hits\, which he wrote and directed\, and he has appeared in numerous films including Kill Your Darlings\, It’s a Disaster\, Abel\, Year One\, Waiting for Guffman\, Men in Black and Men in Black II\, Ghost World\, Eternal Sunshine of the Spotless Mind\, Pitch Perfect 2\, I’m Not There\, and he provided his vocal talents for several animated films\, including Megamind\, the Kung Fu Panda franchise and Curious George.
URL:https://theark.org/event/david-cross-241023/
LOCATION:Michigan Theater\, 603 East Liberty\, Ann Arbor\, MI\, 48104\, United States
CATEGORIES:Special Event
ATTACH;FMTTYPE=image/jpeg:https://theark.org/wp-content/uploads/2024/04/David-Cross-Photo-Credit-Timothy-M-Schmidt-scaled.jpg
END:VEVENT
END:VCALENDAR