BEGIN:VCALENDAR
VERSION:2.0
PRODID:-//The Ark - ECPv6.15.20//NONSGML v1.0//EN
CALSCALE:GREGORIAN
METHOD:PUBLISH
X-WR-CALNAME:The Ark
X-ORIGINAL-URL:https://theark.org
X-WR-CALDESC:Events for The Ark
REFRESH-INTERVAL;VALUE=DURATION:PT1H
X-Robots-Tag:noindex
X-PUBLISHED-TTL:PT1H
BEGIN:VTIMEZONE
TZID:America/Detroit
BEGIN:DAYLIGHT
TZOFFSETFROM:-0500
TZOFFSETTO:-0400
TZNAME:EDT
DTSTART:20230312T070000
END:DAYLIGHT
BEGIN:STANDARD
TZOFFSETFROM:-0400
TZOFFSETTO:-0500
TZNAME:EST
DTSTART:20231105T060000
END:STANDARD
BEGIN:DAYLIGHT
TZOFFSETFROM:-0500
TZOFFSETTO:-0400
TZNAME:EDT
DTSTART:20240310T070000
END:DAYLIGHT
BEGIN:STANDARD
TZOFFSETFROM:-0400
TZOFFSETTO:-0500
TZNAME:EST
DTSTART:20241103T060000
END:STANDARD
BEGIN:DAYLIGHT
TZOFFSETFROM:-0500
TZOFFSETTO:-0400
TZNAME:EDT
DTSTART:20250309T070000
END:DAYLIGHT
BEGIN:STANDARD
TZOFFSETFROM:-0400
TZOFFSETTO:-0500
TZNAME:EST
DTSTART:20251102T060000
END:STANDARD
END:VTIMEZONE
BEGIN:VEVENT
DTSTART;TZID=America/Detroit:20241022T200000
DTEND;TZID=America/Detroit:20241022T230000
DTSTAMP:20260419T180136
CREATED:20240624T173104Z
LAST-MODIFIED:20240701T181340Z
UID:10000646-1729627200-1729638000@theark.org
SUMMARY:Pete Muller
DESCRIPTION:Pete Muller has spent much of his adult life walking a tightrope between two vastly different worlds.  \n“One part of me is a very practical\, analytical thinker\,” says the gifted singer/songwriter and innovative business leader\, “and the other is this creative artist who can’t help but express what’s going on in his soul. For a long time\, I thought I had to choose between the two\, but I’ve realized that I can love both sides of myself\, that it’s AND\, not OR.”  \nMore Time\, Muller’s captivating new album\, is proof of that. Recorded in Memphis with producer/engineer Matt Ross-Spang (Jason Isbell\, Margo Price) and featuring a duet with Lisa Loeb\, the collection marks a dramatic leap forward for Muller\, who finds himself exploring the push and pull of responsibility and desire\, predictability and adventure\, commitment\, and temptation. Where Muller’s previous work leaned more towards carefully arranged folk and roots\, More Time is a freewheeling slice of rock and soul captured with an all-star band including celebrated bassist Dave Smith (Al Green\, Wilson Pickett)\, famed Texas guitarist Will Sexton (Joe Ely\, Roky Erickson)\, Memphis organist Rick Steff (Lucero\, Cat Power)\, and longtime Wilco drummer Ken Coomer. The result is an ecstatic exploration of what it means to be human in all its messy\, mixed-up contradictions\, a sometimes-exultant\, sometimes-pensive meditation that embraces AND over OR as it revels in the joy of discovering—and becoming—the people we’re meant to be. \nThe Ark’s Artist Spotlight Series is made possible with support from Ford Philanthropy. It is presented live\, and also livestreamed on The Ark’s Facebook page. \nTonight’s show is FREE (nonperishables accepted for Food Gatherers).
URL:https://theark.org/event/pete-muller-241022/
LOCATION:The Ark\, 316 S. Main\, Ann Arbor\, MI\, 48104\, United States
CATEGORIES:Artist Spotlight Series,Live and Virtual
ATTACH;FMTTYPE=image/jpeg:https://theark.org/wp-content/uploads/2024/06/Pete-and-KS-tall-Photo-By-Rodney-Bursiel-scaled-e1719861215322.jpeg
END:VEVENT
END:VCALENDAR