BEGIN:VCALENDAR
VERSION:2.0
PRODID:-//The Ark - ECPv6.15.20//NONSGML v1.0//EN
CALSCALE:GREGORIAN
METHOD:PUBLISH
X-ORIGINAL-URL:https://theark.org
X-WR-CALDESC:Events for The Ark
REFRESH-INTERVAL;VALUE=DURATION:PT1H
X-Robots-Tag:noindex
X-PUBLISHED-TTL:PT1H
BEGIN:VTIMEZONE
TZID:America/Detroit
BEGIN:DAYLIGHT
TZOFFSETFROM:-0500
TZOFFSETTO:-0400
TZNAME:EDT
DTSTART:20230312T070000
END:DAYLIGHT
BEGIN:STANDARD
TZOFFSETFROM:-0400
TZOFFSETTO:-0500
TZNAME:EST
DTSTART:20231105T060000
END:STANDARD
BEGIN:DAYLIGHT
TZOFFSETFROM:-0500
TZOFFSETTO:-0400
TZNAME:EDT
DTSTART:20240310T070000
END:DAYLIGHT
BEGIN:STANDARD
TZOFFSETFROM:-0400
TZOFFSETTO:-0500
TZNAME:EST
DTSTART:20241103T060000
END:STANDARD
BEGIN:DAYLIGHT
TZOFFSETFROM:-0500
TZOFFSETTO:-0400
TZNAME:EDT
DTSTART:20250309T070000
END:DAYLIGHT
BEGIN:STANDARD
TZOFFSETFROM:-0400
TZOFFSETTO:-0500
TZNAME:EST
DTSTART:20251102T060000
END:STANDARD
END:VTIMEZONE
BEGIN:VEVENT
DTSTART;TZID=America/Detroit:20241020T193000
DTEND;TZID=America/Detroit:20241020T230000
DTSTAMP:20260419T123221
CREATED:20240604T150035Z
LAST-MODIFIED:20241018T181907Z
UID:10000626-1729452600-1729465200@theark.org
SUMMARY:Noah Gundersen with Abby Gundersen
DESCRIPTION:Marking the 10th anniversary of his acclaimed album\, Ledges\, Noah Gundersen will play intimate\, stripped-back shows with his sister Abby Gundersen playing fiddle.  \nIt’s a strange thing to have a living artifact of your younger self. To observe the manifestations of a younger you’s inner life. To be honest\, it’s often cringy and anxiety inducing. With the benefit of hindsight\, our shortsightedness and misplaced fears and hopes seem so obvious.  \nAs I look back\, ten years later\, to the person I was when I made Ledges\, I see a young man full of ambition and naivety\, desperate for validation and a sense of belonging. I see a boy with a singular vision and a hell of a lot to learn.  \nThey say you have your whole life to make your first record and 18 months to make your second. Although Ledges isn’t technically my first album\, for all intents and purposes\, it feels like it. It was the one I spent years writing. Some songs were written on a mattress on the floor of a rented room I shared with a friend\, in a run down old house I moved into when I left my folks place at 17. Some I wrote in my first apartment in Seattle. One was written in the early hours of the morning\, waking up on a friend’s couch to a simple\, beautiful piano arrangement Abby wrote. One\, after the unexpected heroin overdose that resulted in the death of a friend. Another\, after briefly reigniting an old flame\, only to watch it quickly burn out.  \nEverything was new back then. The colors were brighter\, the highs higher\, the lows lower. Falling in love felt like the first time. Heartbreak felt like the end of the world. Ideas felt important and the future was a big\, empty canvas. \nThere’s a lot of self importance in all of this and ultimately this is just some record that some kid made. But to that kid this record felt like his whole world. And like all records\, it’s a little snapshot in time. And how lucky we are to have snapshots\, photographs of moments and memories that ground us in the reality we’ve lived. \nI don’t want to live in the past. But I’m grateful for this marker of how it once was. A little simpler\, a little cleaner\, a whole lot of potential. And maybe that’s a reminder that I’m living in that potential\, right now. This is the future I imagined and hoped for. This is the person I am now. And it’s nice to be able to look back and see how far I’ve come. And if you found this record 10 years ago\, I hope you can listen back with the same gentle hindsight. \nVIP ticket includes: \n\nOne General Admission ticket\nPre-show acoustic performance (requests allowed!)\nOpportunity for Q&A with Noah\nAutographed setlist\nExclusive tour poster\, signed by Noah\nCommemorative VIP laminate\nEarly entry to the venue
URL:https://theark.org/event/noah-gundersen-with-abby-gundersen/
LOCATION:The Ark\, 316 S. Main\, Ann Arbor\, MI\, 48104\, United States
CATEGORIES:Low Ticket Alert
ATTACH;FMTTYPE=image/jpeg:https://theark.org/wp-content/uploads/2024/05/NoahGundersen-w-AbbyGundersen-lead-photo-scaled.jpg
END:VEVENT
END:VCALENDAR