BEGIN:VCALENDAR
VERSION:2.0
PRODID:-//The Ark - ECPv6.15.20//NONSGML v1.0//EN
CALSCALE:GREGORIAN
METHOD:PUBLISH
X-WR-CALNAME:The Ark
X-ORIGINAL-URL:https://theark.org
X-WR-CALDESC:Events for The Ark
REFRESH-INTERVAL;VALUE=DURATION:PT1H
X-Robots-Tag:noindex
X-PUBLISHED-TTL:PT1H
BEGIN:VTIMEZONE
TZID:America/Detroit
BEGIN:DAYLIGHT
TZOFFSETFROM:-0500
TZOFFSETTO:-0400
TZNAME:EDT
DTSTART:20230312T070000
END:DAYLIGHT
BEGIN:STANDARD
TZOFFSETFROM:-0400
TZOFFSETTO:-0500
TZNAME:EST
DTSTART:20231105T060000
END:STANDARD
BEGIN:DAYLIGHT
TZOFFSETFROM:-0500
TZOFFSETTO:-0400
TZNAME:EDT
DTSTART:20240310T070000
END:DAYLIGHT
BEGIN:STANDARD
TZOFFSETFROM:-0400
TZOFFSETTO:-0500
TZNAME:EST
DTSTART:20241103T060000
END:STANDARD
BEGIN:DAYLIGHT
TZOFFSETFROM:-0500
TZOFFSETTO:-0400
TZNAME:EDT
DTSTART:20250309T070000
END:DAYLIGHT
BEGIN:STANDARD
TZOFFSETFROM:-0400
TZOFFSETTO:-0500
TZNAME:EST
DTSTART:20251102T060000
END:STANDARD
END:VTIMEZONE
BEGIN:VEVENT
DTSTART;TZID=America/Detroit:20241017T200000
DTEND;TZID=America/Detroit:20241017T230000
DTSTAMP:20260419T110100
CREATED:20240722T130031Z
LAST-MODIFIED:20240911T175118Z
UID:10000655-1729195200-1729206000@theark.org
SUMMARY:Rachael Yamagata: Unseen Hearts Tour
DESCRIPTION:Rachael Yamagata would defend you in a bar fight and then invite everyone out to stargaze in the parking lot. She’s a wilderness guide for wanderers\, a galactic diplomat\, a dreamscape designer\, a heartache survivalist\, a pioneer. She speaks to the misfits\, the soul searchers\, the silent types longing to be cracked open. A vocal shapeshifter\, she delivers live shows that spark both playful giddiness and profound catharsis. But Yamagata is not here to heal you—she’s here to show you how to heal yourself.  \nEach record has marked a graduation for pivotal life moments. ‘Happenstance’ (2004) chronicled romantic heartaches. ‘Elephants…Teeth Sinking Into Heart’ (2008) delved deeper into loss and broken promises\, ushering in the confidence of ‘Chesapeake’ (2011). Going DIY\, Yamagata found freedom\, mixing lighter love songs with deep dives into what threatens and ultimately strengthens us. ‘Tightrope Walker’ (2016) expanded into resilience\, empowerment\, and forgiveness.\n\nHer new record (yet to be titled) emerges from this lineage with a dare: sink or swim. Grounded by soul-stirring lyrics like “All of our best laid plans washed away like plastic in the sand” (“Empty Houses”) it also winks at new dimensions\, suggesting worlds beyond our reach with “The galaxy members are waiting for us/ they learn from our failures and they’re sending us love” (“Galaxy”). This new record sees Yamagata as an emotional archivist\, chronicling loneliness and connection and urging us to see our breaking points as opportunities to build something new. 
URL:https://theark.org/event/rachael-yamagata-unseen-hearts-tour-241017/
LOCATION:The Ark\, 316 S. Main\, Ann Arbor\, MI\, 48104\, United States
ATTACH;FMTTYPE=image/jpeg:https://theark.org/wp-content/uploads/2024/07/rachael-yamagata-web.jpg
END:VEVENT
END:VCALENDAR