BEGIN:VCALENDAR
VERSION:2.0
PRODID:-//The Ark - ECPv6.15.20//NONSGML v1.0//EN
CALSCALE:GREGORIAN
METHOD:PUBLISH
X-WR-CALNAME:The Ark
X-ORIGINAL-URL:https://theark.org
X-WR-CALDESC:Events for The Ark
REFRESH-INTERVAL;VALUE=DURATION:PT1H
X-Robots-Tag:noindex
X-PUBLISHED-TTL:PT1H
BEGIN:VTIMEZONE
TZID:America/Detroit
BEGIN:DAYLIGHT
TZOFFSETFROM:-0500
TZOFFSETTO:-0400
TZNAME:EDT
DTSTART:20230312T070000
END:DAYLIGHT
BEGIN:STANDARD
TZOFFSETFROM:-0400
TZOFFSETTO:-0500
TZNAME:EST
DTSTART:20231105T060000
END:STANDARD
BEGIN:DAYLIGHT
TZOFFSETFROM:-0500
TZOFFSETTO:-0400
TZNAME:EDT
DTSTART:20240310T070000
END:DAYLIGHT
BEGIN:STANDARD
TZOFFSETFROM:-0400
TZOFFSETTO:-0500
TZNAME:EST
DTSTART:20241103T060000
END:STANDARD
BEGIN:DAYLIGHT
TZOFFSETFROM:-0500
TZOFFSETTO:-0400
TZNAME:EDT
DTSTART:20250309T070000
END:DAYLIGHT
BEGIN:STANDARD
TZOFFSETFROM:-0400
TZOFFSETTO:-0500
TZNAME:EST
DTSTART:20251102T060000
END:STANDARD
END:VTIMEZONE
BEGIN:VEVENT
DTSTART;TZID=America/Detroit:20241015T200000
DTEND;TZID=America/Detroit:20241015T230000
DTSTAMP:20260420T082124
CREATED:20240416T130041Z
LAST-MODIFIED:20240430T144657Z
UID:10000566-1729022400-1729033200@theark.org
SUMMARY:Oliver Hazard
DESCRIPTION:The story of Waterville\, OH indie-folk trio Oliver Hazard – ​​Michael Belazis (vocals\, guitar) and Devin East (vocals\, guitar)\, joined by Nate Miner (keys\, vocals) – is the digital age’s version of classic band mythmaking. One member of the band came home to Ohio after leading camping trips in California and decided to make an album with two childhood friends. They won a Facebook raffle to record one song at a studio. Instead\, they played their whole album straight through once\, resulting in their debut LP 34 N River (2018). The Fader called the album a “folk-pop masterpiece” and the band was booked at Bonnaroo and Mountain Jam shortly thereafter. In 2019\, the band released their 6 track EP\, The Flood\, which Billboard called a “souvenir.” This brings the band to their sophomore\, self-titled album (July 2023)\, featuring music from the band’s recent Northern Lights EP\, plus five additional songs.
URL:https://theark.org/event/oliver-hazard-241015/
LOCATION:The Ark\, 316 S. Main\, Ann Arbor\, MI\, 48104\, United States
ATTACH;FMTTYPE=image/jpeg:https://theark.org/wp-content/uploads/2024/04/Oliver-Hazard-scaled.jpg
END:VEVENT
END:VCALENDAR