BEGIN:VCALENDAR
VERSION:2.0
PRODID:-//The Ark - ECPv6.15.20//NONSGML v1.0//EN
CALSCALE:GREGORIAN
METHOD:PUBLISH
X-WR-CALNAME:The Ark
X-ORIGINAL-URL:https://theark.org
X-WR-CALDESC:Events for The Ark
REFRESH-INTERVAL;VALUE=DURATION:PT1H
X-Robots-Tag:noindex
X-PUBLISHED-TTL:PT1H
BEGIN:VTIMEZONE
TZID:America/Detroit
BEGIN:DAYLIGHT
TZOFFSETFROM:-0500
TZOFFSETTO:-0400
TZNAME:EDT
DTSTART:20230312T070000
END:DAYLIGHT
BEGIN:STANDARD
TZOFFSETFROM:-0400
TZOFFSETTO:-0500
TZNAME:EST
DTSTART:20231105T060000
END:STANDARD
BEGIN:DAYLIGHT
TZOFFSETFROM:-0500
TZOFFSETTO:-0400
TZNAME:EDT
DTSTART:20240310T070000
END:DAYLIGHT
BEGIN:STANDARD
TZOFFSETFROM:-0400
TZOFFSETTO:-0500
TZNAME:EST
DTSTART:20241103T060000
END:STANDARD
BEGIN:DAYLIGHT
TZOFFSETFROM:-0500
TZOFFSETTO:-0400
TZNAME:EDT
DTSTART:20250309T070000
END:DAYLIGHT
BEGIN:STANDARD
TZOFFSETFROM:-0400
TZOFFSETTO:-0500
TZNAME:EST
DTSTART:20251102T060000
END:STANDARD
END:VTIMEZONE
BEGIN:VEVENT
DTSTART;TZID=America/Detroit:20241014T200000
DTEND;TZID=America/Detroit:20241014T230000
DTSTAMP:20260419T091827
CREATED:20240516T130056Z
LAST-MODIFIED:20240816T134025Z
UID:10000607-1728936000-1728946800@theark.org
SUMMARY:Frances Luke Accord
DESCRIPTION:When Nicholas Gunty and Brian Powers put their songs and voices together\, there is a delicate magic that commands the room to attention. The duo is known as Frances Luke Accord\, and their soft\, contemplative vintage indie-folk gestures toward a timelessness that honors the Simon & Garfunkel comparisons but pushes beyond into the world of Bon Iver\, Jose Gonzalez\, and progressive folk music. \nBoth raised in South Bend\, IN\, Gunty and Powers met and began performing together during their time at the University of Notre Dame. Their first release\, Kandote\, was a bold intercultural collaboration with the Barefoot Truth Children’s Choir in Uganda\, a not-for-profit effort which continues to support the choir to this day. Relocating to Chicago in 2013\, the duo honed their songwriting craft while releasing two more self-produced EPs\, laying the groundwork for their breakthrough debut full-length\, “Fluke\,” in 2016. This immersive\, philosophically rich album set them off on their first national tour\, which included support dates with Darlingside\, Anaïs Mitchell\, and The Ballroom Thieves. \nThe duo released\, “Sunnyside EP” in 2021 which offered a glimpse into the body of work Frances Luke Accord had been developing during the Covid pandemic. Their long-awaited sophomore LP “Safe in Sound” arrived in 2023. They look forward to sharing it with audiences in 2024!
URL:https://theark.org/event/frances-luke-accord-241014/
LOCATION:The Ark\, 316 S. Main\, Ann Arbor\, MI\, 48104\, United States
ATTACH;FMTTYPE=image/jpeg:https://theark.org/wp-content/uploads/2024/05/FLApromo24_Duo-table-scaled.jpg
END:VEVENT
END:VCALENDAR