BEGIN:VCALENDAR
VERSION:2.0
PRODID:-//The Ark - ECPv6.15.20//NONSGML v1.0//EN
CALSCALE:GREGORIAN
METHOD:PUBLISH
X-ORIGINAL-URL:https://theark.org
X-WR-CALDESC:Events for The Ark
REFRESH-INTERVAL;VALUE=DURATION:PT1H
X-Robots-Tag:noindex
X-PUBLISHED-TTL:PT1H
BEGIN:VTIMEZONE
TZID:America/Detroit
BEGIN:DAYLIGHT
TZOFFSETFROM:-0500
TZOFFSETTO:-0400
TZNAME:EDT
DTSTART:20230312T070000
END:DAYLIGHT
BEGIN:STANDARD
TZOFFSETFROM:-0400
TZOFFSETTO:-0500
TZNAME:EST
DTSTART:20231105T060000
END:STANDARD
BEGIN:DAYLIGHT
TZOFFSETFROM:-0500
TZOFFSETTO:-0400
TZNAME:EDT
DTSTART:20240310T070000
END:DAYLIGHT
BEGIN:STANDARD
TZOFFSETFROM:-0400
TZOFFSETTO:-0500
TZNAME:EST
DTSTART:20241103T060000
END:STANDARD
BEGIN:DAYLIGHT
TZOFFSETFROM:-0500
TZOFFSETTO:-0400
TZNAME:EDT
DTSTART:20250309T070000
END:DAYLIGHT
BEGIN:STANDARD
TZOFFSETFROM:-0400
TZOFFSETTO:-0500
TZNAME:EST
DTSTART:20251102T060000
END:STANDARD
END:VTIMEZONE
BEGIN:VEVENT
DTSTART;TZID=America/Detroit:20241012T200000
DTEND;TZID=America/Detroit:20241012T230000
DTSTAMP:20260420T045849
CREATED:20240710T130004Z
LAST-MODIFIED:20240708T133214Z
UID:10000651-1728763200-1728774000@theark.org
SUMMARY:The Verve Pipe
DESCRIPTION:With a reputation for spectacular live performances\, the multi-platinum alternative rock band The Verve Pipe are recognized worldwide for their radio hits Photograph\, Hero\, Happiness Is\, Never Let You Down and the #1 smash single The Freshmen. \nIn addition to their success on radio\, TV and film\, sold-out concert dates throughout the U.S.\, Canada\, Europe and Australia\, features in Rolling Stone\, Interview Magazine and many more\, and videos on MTV and VH1\, the band has made numerous television appearances\, including ‘The Tonight Show With Jay Leno’ and ‘Late Night With David Letterman.’ After an extended break from recording\, The Verve Pipe released their first rock album in over 13 years with Overboard\, a collection of ten new songs including the haunting title track. This long incubating project brought renewed energy and focus to the band as they soon followed with Parachute and their first-ever live album\, Villains – Live & Acoustic featuring an acoustic re-imaging of their platinum debut album Villains. Their latest\, the critically acclaimed Threads\, maintains their commitment to forward-thinking rock and roll as the band continues to reinvent itself with each new release. \nThe Verve Pipe continue to tour\, performing shows throughout the U.S.\, including special appearances at Lollapalooza\, Austin City Limits Festival\, Lincoln Center\, Hangout Music Festival\, SummerStage in Central Park\, and many more.
URL:https://theark.org/event/the-verve-pipe-241012/
LOCATION:The Ark\, 316 S. Main\, Ann Arbor\, MI\, 48104\, United States
ATTACH;FMTTYPE=image/jpeg:https://theark.org/wp-content/uploads/2024/07/The-Verve-Pipe-web-scaled.jpg
END:VEVENT
END:VCALENDAR