BEGIN:VCALENDAR
VERSION:2.0
PRODID:-//The Ark - ECPv6.15.20//NONSGML v1.0//EN
CALSCALE:GREGORIAN
METHOD:PUBLISH
X-WR-CALNAME:The Ark
X-ORIGINAL-URL:https://theark.org
X-WR-CALDESC:Events for The Ark
REFRESH-INTERVAL;VALUE=DURATION:PT1H
X-Robots-Tag:noindex
X-PUBLISHED-TTL:PT1H
BEGIN:VTIMEZONE
TZID:America/Detroit
BEGIN:DAYLIGHT
TZOFFSETFROM:-0500
TZOFFSETTO:-0400
TZNAME:EDT
DTSTART:20230312T070000
END:DAYLIGHT
BEGIN:STANDARD
TZOFFSETFROM:-0400
TZOFFSETTO:-0500
TZNAME:EST
DTSTART:20231105T060000
END:STANDARD
BEGIN:DAYLIGHT
TZOFFSETFROM:-0500
TZOFFSETTO:-0400
TZNAME:EDT
DTSTART:20240310T070000
END:DAYLIGHT
BEGIN:STANDARD
TZOFFSETFROM:-0400
TZOFFSETTO:-0500
TZNAME:EST
DTSTART:20241103T060000
END:STANDARD
BEGIN:DAYLIGHT
TZOFFSETFROM:-0500
TZOFFSETTO:-0400
TZNAME:EDT
DTSTART:20250309T070000
END:DAYLIGHT
BEGIN:STANDARD
TZOFFSETFROM:-0400
TZOFFSETTO:-0500
TZNAME:EST
DTSTART:20251102T060000
END:STANDARD
END:VTIMEZONE
BEGIN:VEVENT
DTSTART;TZID=America/Detroit:20241010T193000
DTEND;TZID=America/Detroit:20241010T230000
DTSTAMP:20260420T080245
CREATED:20240604T150036Z
LAST-MODIFIED:20240607T141211Z
UID:10000623-1728588600-1728601200@theark.org
SUMMARY:Billy Bragg
DESCRIPTION:The Roaring Forty USA Tour 2024 \nIn 2023 Billy Bragg kicked off a celebration of a remarkable 40 years as Britain’s favourite folk singer\, songwriter and campaigner. To mark this significant landmark\, he has released an acclaimed career-spanning box set ‘The Roaring Forty’ and has played to sell-out crowds across the world. In November he performed his most famous song ‘A New England’ on Later With Jools Holland almost exactly 40 years to the day that he debuted the song on The Tube (also presented by one Jools Holland!). \nGalvanised in the late 70s by The Clash and an aversion to the austere policies of Margaret Thatcher\, Billy set out to inspire political engagement and empathy. He has performed numerous benefit shows for the miners\, the Labour party\, CND\, the jobless and many more\, and has run the Left Field political stage at Glastonbury for the last 20 years. \nBilly has released 11 solo studio albums\, three albums of Woody Guthrie lyrics set to contemporary music by Billy and Wilco (the Mermaid Avenue albums) and one album with Joe Henry. He released a mini album Bridges Not Walls in 2017. His latest studio album\, the acclaimed ‘The Million Things That Never Happened’ came out in 2021. \nBilly Bragg added best-selling author to his CV with the success of his acclaimed 2017 book Roots\, Radicals & Rockers – How Skiffle Changed The World. He has written two books of political analysis –  The Progressive Patriot: A Search For Belonging (2006) and The Three Dimensions of Freedom (2019). \nBilly won the Outstanding Contribution To British Music Award at the prestigious Ivors Awards in 2018. Born and raised in Barking\, East London\, Billy has a street named after him in his home town – Bragg Close. This year Billy has been honoured with a pavement plaque on the Camden Music Walk Of Fame (previous recipients include Madness\, Amy Winehouse\, The Who\, David Bowie\, and The Kinks)
URL:https://theark.org/event/billy-bragg-241010/
LOCATION:The Majestic Theatre\, 4140 Woodward Ave.\, Detroit\, Michigan\, 48201\, United States
CATEGORIES:Special Event
ATTACH;FMTTYPE=image/jpeg:https://theark.org/wp-content/uploads/2024/05/BB_guitar-sleeve-shot-hi-res-web.jpg
END:VEVENT
BEGIN:VEVENT
DTSTART;TZID=America/Detroit:20241010T193000
DTEND;TZID=America/Detroit:20241010T230000
DTSTAMP:20260420T080245
CREATED:20240711T130054Z
LAST-MODIFIED:20241002T134646Z
UID:10000652-1728588600-1728601200@theark.org
SUMMARY:Veterans For Peace Concert
DESCRIPTION:This annual concert benefits the Veterans for Peace Chapter 93 Peace Scholarship Fund. Proceeds will go to scholarships for college students enrolled in an accredited peace studies program and for programs to assist combat veterans suffering from serious trauma. This year’s lineup includes Annie Bacon\, Judy Banker\, Al Bettis\, Dave Boutette & Kristi Davis\, Chris Buhalis\, Annie & Rod Capps\, Lauren Crane\, Enzo Garcia\, Dave Keeney & Sophia Hanifi\, Shari Kane & Dave Steele\, Billy King\, Pontiac Trailblazers\, Jo Serrapere\, Dick Siegel\, Emily & San Slomovits\, Michael Smith\, and Rollie Tussing. \nNote early start time!
URL:https://theark.org/event/veterans-for-peace-concert-241010/
LOCATION:The Ark\, 316 S. Main\, Ann Arbor\, MI\, 48104\, United States
ATTACH;FMTTYPE=image/jpeg:https://theark.org/wp-content/uploads/2024/07/2024-veterans-for-peace-web-crop.jpg
END:VEVENT
END:VCALENDAR