BEGIN:VCALENDAR
VERSION:2.0
PRODID:-//The Ark - ECPv6.15.20//NONSGML v1.0//EN
CALSCALE:GREGORIAN
METHOD:PUBLISH
X-ORIGINAL-URL:https://theark.org
X-WR-CALDESC:Events for The Ark
REFRESH-INTERVAL;VALUE=DURATION:PT1H
X-Robots-Tag:noindex
X-PUBLISHED-TTL:PT1H
BEGIN:VTIMEZONE
TZID:America/Detroit
BEGIN:DAYLIGHT
TZOFFSETFROM:-0500
TZOFFSETTO:-0400
TZNAME:EDT
DTSTART:20230312T070000
END:DAYLIGHT
BEGIN:STANDARD
TZOFFSETFROM:-0400
TZOFFSETTO:-0500
TZNAME:EST
DTSTART:20231105T060000
END:STANDARD
BEGIN:DAYLIGHT
TZOFFSETFROM:-0500
TZOFFSETTO:-0400
TZNAME:EDT
DTSTART:20240310T070000
END:DAYLIGHT
BEGIN:STANDARD
TZOFFSETFROM:-0400
TZOFFSETTO:-0500
TZNAME:EST
DTSTART:20241103T060000
END:STANDARD
BEGIN:DAYLIGHT
TZOFFSETFROM:-0500
TZOFFSETTO:-0400
TZNAME:EDT
DTSTART:20250309T070000
END:DAYLIGHT
BEGIN:STANDARD
TZOFFSETFROM:-0400
TZOFFSETTO:-0500
TZNAME:EST
DTSTART:20251102T060000
END:STANDARD
END:VTIMEZONE
BEGIN:VEVENT
DTSTART;TZID=America/Detroit:20241005T200000
DTEND;TZID=America/Detroit:20241005T230000
DTSTAMP:20260421T203506
CREATED:20240815T130047Z
LAST-MODIFIED:20240814T151107Z
UID:10000672-1728158400-1728169200@theark.org
SUMMARY:Laith Al-Saadi's Birthday Bash 2024!
DESCRIPTION:In 2016\, Laith Al-Saadi won America’s hearts and a spot in the Season 10 finale of NBC’s “The Voice.” Now he’s bringing an authentic blend of blues\, soul and classic rock to audiences around the nation and the world. Laith Al-Saadi has always had the perfect combination of Midwestern hustle and incredible musical chops—honed at the University of Michigan school of music in his hometown of Ann Arbor\, and on stages across the country working with legends like Taj Mahal\, Luther Allison\, Buddy Guy\, Son Seals\, Gregg Allman\, and B.B. King. “Laith is one of the most diverse talents we have\,” said Maroon 5 frontman and “The Voice” coach Adam Levine. “Incredible guitar player\, incredible singer.” Audiences have agreed\, propelling Laith’s album “REAL” to the top of the blues chart for five weeks and the top 20 album chart for two weeks. Guitar Center has crowned him one of the top four blues guitarists in the United States. \nLaith’s birthday shows have been on hiatus since covid. Come celebrate the return of this annual Ann Arbor tradition!
URL:https://theark.org/event/laith-al-saadis-birthday-bash-2024/
LOCATION:The Ark\, 316 S. Main\, Ann Arbor\, MI\, 48104\, United States
ATTACH;FMTTYPE=image/jpeg:https://theark.org/wp-content/uploads/2023/10/LaithAl-Saadi-solo-2023.jpg
END:VEVENT
END:VCALENDAR