BEGIN:VCALENDAR
VERSION:2.0
PRODID:-//The Ark - ECPv6.15.20//NONSGML v1.0//EN
CALSCALE:GREGORIAN
METHOD:PUBLISH
X-ORIGINAL-URL:https://theark.org
X-WR-CALDESC:Events for The Ark
REFRESH-INTERVAL;VALUE=DURATION:PT1H
X-Robots-Tag:noindex
X-PUBLISHED-TTL:PT1H
BEGIN:VTIMEZONE
TZID:America/Detroit
BEGIN:DAYLIGHT
TZOFFSETFROM:-0500
TZOFFSETTO:-0400
TZNAME:EDT
DTSTART:20230312T070000
END:DAYLIGHT
BEGIN:STANDARD
TZOFFSETFROM:-0400
TZOFFSETTO:-0500
TZNAME:EST
DTSTART:20231105T060000
END:STANDARD
BEGIN:DAYLIGHT
TZOFFSETFROM:-0500
TZOFFSETTO:-0400
TZNAME:EDT
DTSTART:20240310T070000
END:DAYLIGHT
BEGIN:STANDARD
TZOFFSETFROM:-0400
TZOFFSETTO:-0500
TZNAME:EST
DTSTART:20241103T060000
END:STANDARD
BEGIN:DAYLIGHT
TZOFFSETFROM:-0500
TZOFFSETTO:-0400
TZNAME:EDT
DTSTART:20250309T070000
END:DAYLIGHT
BEGIN:STANDARD
TZOFFSETFROM:-0400
TZOFFSETTO:-0500
TZNAME:EST
DTSTART:20251102T060000
END:STANDARD
END:VTIMEZONE
BEGIN:VEVENT
DTSTART;TZID=America/Detroit:20240928T200000
DTEND;TZID=America/Detroit:20240928T230000
DTSTAMP:20260419T114450
CREATED:20240627T140004Z
LAST-MODIFIED:20240731T123508Z
UID:10000647-1727553600-1727564400@theark.org
SUMMARY:A Celebration of the Music of Jay Stielstra
DESCRIPTION:Legendary Michigan songwriter\, Jay Stielstra\, whose life and art will long be remembered by our Michigan community\, has left us a treasured legacy of unforgettable songs\, musical plays\, and other writings. To celebrate Jay’s life and music\, a roster of beloved Michigan musicians\, many of whom have performed with Jay\, or in his plays throughout the years\, will bring the songs from Jay’s many musical plays\, including North Country Opera\, Old Man In Love\, and more\, to the The Ark stage. The lineup includes: Mr. B\, Chris Buhalis\, Judy Banker\, Dave Boutette & Kristi Davis\, Annie & Rod Capps\, Cheryl Dawdy\, Matt Jones\, Christina McMullen\, David Menefee\, Mustard’s Retreat\, The RFD Boys\, Peter Madcat Ruth\, Dick Siegel Trio\, San and Emily Slomovits\, Michael Smith\, Matt Watroba\, and the North Country Opera’s Buckhorn Bar Band w/ David Roof\, Charlie Reischl\, Judy Banker & Dave Keeney. \nThis concert is a benefit for The Ark\, a musical home to Jay since The Ark’s early years on Hill Street. 
URL:https://theark.org/event/a-celebration-of-the-music-of-jay-stielstra-240928/
LOCATION:The Ark\, 316 S. Main\, Ann Arbor\, MI\, 48104\, United States
ATTACH;FMTTYPE=image/png:https://theark.org/wp-content/uploads/2024/06/Celebration-of-the-Music-of-Jay-Stielstra.png
END:VEVENT
END:VCALENDAR