BEGIN:VCALENDAR
VERSION:2.0
PRODID:-//The Ark - ECPv6.15.20//NONSGML v1.0//EN
CALSCALE:GREGORIAN
METHOD:PUBLISH
X-ORIGINAL-URL:https://theark.org
X-WR-CALDESC:Events for The Ark
REFRESH-INTERVAL;VALUE=DURATION:PT1H
X-Robots-Tag:noindex
X-PUBLISHED-TTL:PT1H
BEGIN:VTIMEZONE
TZID:America/Detroit
BEGIN:DAYLIGHT
TZOFFSETFROM:-0500
TZOFFSETTO:-0400
TZNAME:EDT
DTSTART:20230312T070000
END:DAYLIGHT
BEGIN:STANDARD
TZOFFSETFROM:-0400
TZOFFSETTO:-0500
TZNAME:EST
DTSTART:20231105T060000
END:STANDARD
BEGIN:DAYLIGHT
TZOFFSETFROM:-0500
TZOFFSETTO:-0400
TZNAME:EDT
DTSTART:20240310T070000
END:DAYLIGHT
BEGIN:STANDARD
TZOFFSETFROM:-0400
TZOFFSETTO:-0500
TZNAME:EST
DTSTART:20241103T060000
END:STANDARD
BEGIN:DAYLIGHT
TZOFFSETFROM:-0500
TZOFFSETTO:-0400
TZNAME:EDT
DTSTART:20250309T070000
END:DAYLIGHT
BEGIN:STANDARD
TZOFFSETFROM:-0400
TZOFFSETTO:-0500
TZNAME:EST
DTSTART:20251102T060000
END:STANDARD
END:VTIMEZONE
BEGIN:VEVENT
DTSTART;TZID=America/Detroit:20240922T190000
DTEND;TZID=America/Detroit:20240922T230000
DTSTAMP:20260419T165408
CREATED:20240531T182815Z
LAST-MODIFIED:20240626T163613Z
UID:10000627-1727031600-1727046000@theark.org
SUMMARY:Rainbow Kitten Surprise - Love Hate Music Box Tour
DESCRIPTION:As if channeling another dimension where genres simply don’t exist\, Rainbow Kitten Surprise finds harmony in unpredictability – weaving together lyrical poetry\, hummable melodies\, and a rush of instrumental eccentricities. Now boasting over 2 billion global streams across platforms\, the band first began building their devoted fanbase with independent albums SEVEN + MARY(2013) and RKS (2015). The band’s breakout full-length debut for Elektra\, HOW TO: FRIEND\, LOVE\, FREEFALL\, arrived in April 2018. Produced by GRAMMY® Award-winner Jay Joyce (Cage The Elephant\, Lainey Wilson)\, the album featured RIAA-certified Platinum single “It’s Called: Freefall\,” earned widespread praise from Billboard\, TIME\, Vice\, and NPR who described their sound as “…a mix of jam and indie and whatever else you can throw into the soup…very earnest\, beautiful\, political\, loving rock n’ roll\,” and saw the band make several national television appearances\, including performances on “CBS Saturday Morning\,” “The Late Show with Stephen Colbert\,” and PBS’s “Austin City Limits.” After gracing the bills of Bonnaroo\, Lollapalooza\, and Osheaga\, to name a few\, RKS moved 80\,000 tickets of their own on the sold-out 2018/2019 Friend\, Love\, Freefall Tour. That tour was earmarked by a sold-out debut at Red Rocks Amphitheatre and three consecutive gigs in Athens\, GA (the latter of which were chronicled on their first official live album\, LIVE FROM ATHENS GEORGIA\, released in 2021). \nThe band released a two-track single Mary (B-Sides) in May 2019 – consisting of “Heart” and “No Vacancy.” The following year brought the release of standalone single “Our Song” – already a fan favorite in their live rotation prior to release – as well as a livestream concert in July\, held for thousands of fans on what would’ve been the date of another sold-out Red Rocks performance (cancelled due to the COVID-19 pandemic). In March 2022\, the band released the emotionally charged track “Work Out\,” marking their first new music in nearly two years. \n2022 also saw the band set out on their first full headline trek in nearly 3 years\, a run that included their long-awaited\, sold-out\, two-night return to Red Rocks. And in 2022 alone\, with the help of partners PLUS1 and Propeller\, Rainbow Kitten Surprise raised over $170k for food banks in local tour markets\, LGBTQ+ causes\, and mental health initiatives. \nRainbow Kitten Surprise is: Ela Melo (she/her; lead vocals)\, Darrick “Bozzy” Keller (he/him; guitar\, vocals)\, Ethan Goodpaster (he/him; lead guitar\, vocals)\, Jess Haney (he/him; drums)
URL:https://theark.org/event/rainbow-kitten-surprise-240922/
LOCATION:Masonic Temple Theatre\, 500 Temple St\, Detroit\, MI\, 48201\, United States
CATEGORIES:Special Event
ATTACH;FMTTYPE=image/jpeg:https://theark.org/wp-content/uploads/2024/05/0922-Detroit-RainbowKittenSurprise-1920x1080-1.jpg
END:VEVENT
END:VCALENDAR