BEGIN:VCALENDAR
VERSION:2.0
PRODID:-//The Ark - ECPv6.15.20//NONSGML v1.0//EN
CALSCALE:GREGORIAN
METHOD:PUBLISH
X-WR-CALNAME:The Ark
X-ORIGINAL-URL:https://theark.org
X-WR-CALDESC:Events for The Ark
REFRESH-INTERVAL;VALUE=DURATION:PT1H
X-Robots-Tag:noindex
X-PUBLISHED-TTL:PT1H
BEGIN:VTIMEZONE
TZID:America/Detroit
BEGIN:DAYLIGHT
TZOFFSETFROM:-0500
TZOFFSETTO:-0400
TZNAME:EDT
DTSTART:20230312T070000
END:DAYLIGHT
BEGIN:STANDARD
TZOFFSETFROM:-0400
TZOFFSETTO:-0500
TZNAME:EST
DTSTART:20231105T060000
END:STANDARD
BEGIN:DAYLIGHT
TZOFFSETFROM:-0500
TZOFFSETTO:-0400
TZNAME:EDT
DTSTART:20240310T070000
END:DAYLIGHT
BEGIN:STANDARD
TZOFFSETFROM:-0400
TZOFFSETTO:-0500
TZNAME:EST
DTSTART:20241103T060000
END:STANDARD
BEGIN:DAYLIGHT
TZOFFSETFROM:-0500
TZOFFSETTO:-0400
TZNAME:EDT
DTSTART:20250309T070000
END:DAYLIGHT
BEGIN:STANDARD
TZOFFSETFROM:-0400
TZOFFSETTO:-0500
TZNAME:EST
DTSTART:20251102T060000
END:STANDARD
END:VTIMEZONE
BEGIN:VEVENT
DTSTART;TZID=America/Detroit:20240921T200000
DTEND;TZID=America/Detroit:20240921T230000
DTSTAMP:20260419T130018
CREATED:20240815T130015Z
LAST-MODIFIED:20240814T150605Z
UID:10000671-1726948800-1726959600@theark.org
SUMMARY:Nathan Graham
DESCRIPTION:When you think of a singer-songwriter\, who comes to mind? \nNathan Graham says it probably isn’t somebody who looks like he does\, and he wants to change that. \nBorn and raised in Chicago\, Graham meshes South Side Blues with Nashville Americana\, beginning his career backing blues singers at famous haunts like Buddy Guy’s Legends and Kingston Mines. He spent a decade as a guitar-for-hire before picking up a mic to tell his own stories on the stage. \nSoulful and steady\, Graham’s music offers a raw introspective of the human condition that’s both painful and comforting. His guitar conveys heartbreak\, lyrics tell stories of regret\, but his rich vocal delivery offers the remedy. \nHaving brought his songs on international tours with both major label and indie acts\, Graham is challenging the notion of what it means to be a singer-songwriter. He’s driving inclusivity within the genre\, and he hopes to evoke a sense of understanding in the process. \n“I’m writing about universal experiences\,” he says. “I’m writing music to connect my story to yours\, show you all that we have in common\, and maybe help both of us feel less alone.”
URL:https://theark.org/event/nathan-graham-240921/
LOCATION:The Ark\, 316 S. Main\, Ann Arbor\, MI\, 48104\, United States
ATTACH;FMTTYPE=image/jpeg:https://theark.org/wp-content/uploads/2024/08/NathanGraham_RedRoom_web.jpg
END:VEVENT
END:VCALENDAR