BEGIN:VCALENDAR
VERSION:2.0
PRODID:-//The Ark - ECPv6.15.20//NONSGML v1.0//EN
CALSCALE:GREGORIAN
METHOD:PUBLISH
X-WR-CALNAME:The Ark
X-ORIGINAL-URL:https://theark.org
X-WR-CALDESC:Events for The Ark
REFRESH-INTERVAL;VALUE=DURATION:PT1H
X-Robots-Tag:noindex
X-PUBLISHED-TTL:PT1H
BEGIN:VTIMEZONE
TZID:America/Detroit
BEGIN:DAYLIGHT
TZOFFSETFROM:-0500
TZOFFSETTO:-0400
TZNAME:EDT
DTSTART:20230312T070000
END:DAYLIGHT
BEGIN:STANDARD
TZOFFSETFROM:-0400
TZOFFSETTO:-0500
TZNAME:EST
DTSTART:20231105T060000
END:STANDARD
BEGIN:DAYLIGHT
TZOFFSETFROM:-0500
TZOFFSETTO:-0400
TZNAME:EDT
DTSTART:20240310T070000
END:DAYLIGHT
BEGIN:STANDARD
TZOFFSETFROM:-0400
TZOFFSETTO:-0500
TZNAME:EST
DTSTART:20241103T060000
END:STANDARD
BEGIN:DAYLIGHT
TZOFFSETFROM:-0500
TZOFFSETTO:-0400
TZNAME:EDT
DTSTART:20250309T070000
END:DAYLIGHT
BEGIN:STANDARD
TZOFFSETFROM:-0400
TZOFFSETTO:-0500
TZNAME:EST
DTSTART:20251102T060000
END:STANDARD
END:VTIMEZONE
BEGIN:VEVENT
DTSTART;TZID=America/Detroit:20240917T200000
DTEND;TZID=America/Detroit:20240917T230000
DTSTAMP:20260419T105518
CREATED:20240815T130047Z
LAST-MODIFIED:20240814T150637Z
UID:10000670-1726603200-1726614000@theark.org
SUMMARY:Harvest Gathering co-bill with Rachael Davis and Anne Heaton w/Frank Marotta\, Jr.
DESCRIPTION:Multi-instrumentalist Rachael Davis is as renowned for her expressive–and explosive–voice as she is for uniting the often disparate worlds of folk\, blues\, country\, and pop. Davis has lent her voice to countless recordings for friends\, film soundtracks\, and even video games\,  but it is her intuitive and empathetic understanding of folk music—“the music of folks” as she calls it\, and her original and thoughtful songwriting voice that has earned her fans around the U.S. \nSinger-songwriter and pianist Anne Heaton has captured audience imaginations for over fifteen years with her songs that are\, by turns\, “tender\, barbed and spiritual” (Washington Post). She’s been featured by the New York Times Popcast\, played numerous times on NPR and shared the stage with artists such as Jewel\, Sarah McLachlan and jazz drummer Max Roach. She teaches at Berklee College of Music Summer Programs and is the founder of Soul Songs School\, an online songwriting program. Anne often performs with guitarist\, vocalist and songwriter Frank Marotta\, Jr. and they have played over 1\,000 headlining shows together nationwide.
URL:https://theark.org/event/rachael-davis-and-anne-heaton-w-frank-marotta-jr-240917/
LOCATION:The Ark\, 316 S. Main\, Ann Arbor\, MI\, 48104\, United States
ATTACH;FMTTYPE=image/jpeg:https://theark.org/wp-content/uploads/2024/08/RachaelDavis-AnneHeaton-FrankMarotta.jpg
END:VEVENT
END:VCALENDAR