BEGIN:VCALENDAR
VERSION:2.0
PRODID:-//The Ark - ECPv6.15.20//NONSGML v1.0//EN
CALSCALE:GREGORIAN
METHOD:PUBLISH
X-WR-CALNAME:The Ark
X-ORIGINAL-URL:https://theark.org
X-WR-CALDESC:Events for The Ark
REFRESH-INTERVAL;VALUE=DURATION:PT1H
X-Robots-Tag:noindex
X-PUBLISHED-TTL:PT1H
BEGIN:VTIMEZONE
TZID:America/Detroit
BEGIN:DAYLIGHT
TZOFFSETFROM:-0500
TZOFFSETTO:-0400
TZNAME:EDT
DTSTART:20230312T070000
END:DAYLIGHT
BEGIN:STANDARD
TZOFFSETFROM:-0400
TZOFFSETTO:-0500
TZNAME:EST
DTSTART:20231105T060000
END:STANDARD
BEGIN:DAYLIGHT
TZOFFSETFROM:-0500
TZOFFSETTO:-0400
TZNAME:EDT
DTSTART:20240310T070000
END:DAYLIGHT
BEGIN:STANDARD
TZOFFSETFROM:-0400
TZOFFSETTO:-0500
TZNAME:EST
DTSTART:20241103T060000
END:STANDARD
BEGIN:DAYLIGHT
TZOFFSETFROM:-0500
TZOFFSETTO:-0400
TZNAME:EDT
DTSTART:20250309T070000
END:DAYLIGHT
BEGIN:STANDARD
TZOFFSETFROM:-0400
TZOFFSETTO:-0500
TZNAME:EST
DTSTART:20251102T060000
END:STANDARD
END:VTIMEZONE
BEGIN:VEVENT
DTSTART;TZID=America/Detroit:20240914T200000
DTEND;TZID=America/Detroit:20240914T230000
DTSTAMP:20260419T145050
CREATED:20240418T130056Z
LAST-MODIFIED:20240419T145703Z
UID:10000568-1726344000-1726354800@theark.org
SUMMARY:Chris Smither
DESCRIPTION:Chris Smither grew up in New Orleans where he first started playing music as a child. The son of a Tulane University professor\, he was taught the rudiments of instrumentation by his uncle on his mother’s ukulele. “I’d loved acoustic music – specifically the blues – ever since I first heard Lightnin’ Hopkins’ Blues In My Bottle album.” Chris says\, “I couldn’t believe the sound Hopkins got. At first I thought it was two guys playing guitar. My style\, to a degree\, came out of trying to imitate that sound I heard.” His music draws deeply from the blues\, American folk music\, modern poets\, and humanist philosophers. \nChris comes to The Ark in support of his 20th album\, “All About the Bones” (release date: May 3\, 2024 on Signature Sounds/Mighty Albert\, distributed by Redeye). Featuring eight brand new Chris Smither songs and Smither renditions of Eliza Gilkyson’s “Calm Before the Storm” and also Tom Petty’s “Time to Move On”\, the listener is welcomed into some gothic mansion on an imaginary New Orleans street\, and there in the lamplit parlor confronts the band\, a minimalist skeleton crew: Smither’s inimitable propulsive guitar and rumbling baritone are joined seamlessly to producer David Goodrich’s carpetbag of instruments\, Zak Trojano’s rock-steady\, primal drumming\, BettySoo’s diaphanous harmony vocals\, and the flat\, mournful flood of Jazz legend Chris Cheek’s saxophone. Recorded at Sonelab Studios in Easthampton MA by Justin Pizzoferrato “All About the Bones” has a feel that is somehow baroque and austere at once. 
URL:https://theark.org/event/chris-smither-240914/
LOCATION:The Ark\, 316 S. Main\, Ann Arbor\, MI\, 48104\, United States
ATTACH;FMTTYPE=image/jpeg:https://theark.org/wp-content/uploads/2024/04/smither-chattman2-scaled-1.jpg
END:VEVENT
END:VCALENDAR