BEGIN:VCALENDAR
VERSION:2.0
PRODID:-//The Ark - ECPv6.15.20//NONSGML v1.0//EN
CALSCALE:GREGORIAN
METHOD:PUBLISH
X-ORIGINAL-URL:https://theark.org
X-WR-CALDESC:Events for The Ark
REFRESH-INTERVAL;VALUE=DURATION:PT1H
X-Robots-Tag:noindex
X-PUBLISHED-TTL:PT1H
BEGIN:VTIMEZONE
TZID:America/Detroit
BEGIN:DAYLIGHT
TZOFFSETFROM:-0500
TZOFFSETTO:-0400
TZNAME:EDT
DTSTART:20230312T070000
END:DAYLIGHT
BEGIN:STANDARD
TZOFFSETFROM:-0400
TZOFFSETTO:-0500
TZNAME:EST
DTSTART:20231105T060000
END:STANDARD
BEGIN:DAYLIGHT
TZOFFSETFROM:-0500
TZOFFSETTO:-0400
TZNAME:EDT
DTSTART:20240310T070000
END:DAYLIGHT
BEGIN:STANDARD
TZOFFSETFROM:-0400
TZOFFSETTO:-0500
TZNAME:EST
DTSTART:20241103T060000
END:STANDARD
BEGIN:DAYLIGHT
TZOFFSETFROM:-0500
TZOFFSETTO:-0400
TZNAME:EDT
DTSTART:20250309T070000
END:DAYLIGHT
BEGIN:STANDARD
TZOFFSETFROM:-0400
TZOFFSETTO:-0500
TZNAME:EST
DTSTART:20251102T060000
END:STANDARD
END:VTIMEZONE
BEGIN:VEVENT
DTSTART;TZID=America/Detroit:20240911T200000
DTEND;TZID=America/Detroit:20240911T230000
DTSTAMP:20260419T094055
CREATED:20240509T130027Z
LAST-MODIFIED:20240509T174056Z
UID:10000598-1726084800-1726095600@theark.org
SUMMARY:Dustbowl Revival
DESCRIPTION:Dustbowl Revival has always been about pushing the boundaries of what American roots music can be. After celebrating over a decade of sonic adventuring and playing thousands of shows together in ten countries and counting\, the group collected a devoted fanbase globally.  \nAfter spending years on the road\, selling out hometown shows at LA’s famed Troubadour\, headlining festivals and wowing crowds from Denmark to China\, Dustbowl Revival never stopped making their joyful\, booty-shaking soul songs and cut-to-heart folk-rock ballads that lift up their transcendent live shows.  \nFounder Z. Lupetin sought to find fellow musicians who shared his roving love of Louis Armstrong\, Bob Wills\, Old Crow Medicine Show\, Paul Simon\, Aretha Franklin and the brass bands of New Orleans\, but also wanted to write songs like Americana pioneers Wilco\, Lucinda Williams and even Bruce Springsteen.  \nDustbowl Revival’s collective of musicians include: Z. Lupetin (lead vocals\, guitar) Alex Nester (lead vocals)\, Chad Richard (electric guitar)\, Nick Phakpiseth (bass)\, Josh Heffernan (drums)\, Ulf Bjorlin\, Vik Devasthali (trombone)\, Max Oleary\, Mike Jones\, (trumpet).
URL:https://theark.org/event/dustbowl-revival-240911/
LOCATION:The Ark\, 316 S. Main\, Ann Arbor\, MI\, 48104\, United States
ATTACH;FMTTYPE=image/jpeg:https://theark.org/wp-content/uploads/2024/05/Dustbowl-Revival-1.PC-Seth-Jacobson-1.jpg
END:VEVENT
END:VCALENDAR