BEGIN:VCALENDAR
VERSION:2.0
PRODID:-//The Ark - ECPv6.15.20//NONSGML v1.0//EN
CALSCALE:GREGORIAN
METHOD:PUBLISH
X-WR-CALNAME:The Ark
X-ORIGINAL-URL:https://theark.org
X-WR-CALDESC:Events for The Ark
REFRESH-INTERVAL;VALUE=DURATION:PT1H
X-Robots-Tag:noindex
X-PUBLISHED-TTL:PT1H
BEGIN:VTIMEZONE
TZID:America/Detroit
BEGIN:DAYLIGHT
TZOFFSETFROM:-0500
TZOFFSETTO:-0400
TZNAME:EDT
DTSTART:20230312T070000
END:DAYLIGHT
BEGIN:STANDARD
TZOFFSETFROM:-0400
TZOFFSETTO:-0500
TZNAME:EST
DTSTART:20231105T060000
END:STANDARD
BEGIN:DAYLIGHT
TZOFFSETFROM:-0500
TZOFFSETTO:-0400
TZNAME:EDT
DTSTART:20240310T070000
END:DAYLIGHT
BEGIN:STANDARD
TZOFFSETFROM:-0400
TZOFFSETTO:-0500
TZNAME:EST
DTSTART:20241103T060000
END:STANDARD
BEGIN:DAYLIGHT
TZOFFSETFROM:-0500
TZOFFSETTO:-0400
TZNAME:EDT
DTSTART:20250309T070000
END:DAYLIGHT
BEGIN:STANDARD
TZOFFSETFROM:-0400
TZOFFSETTO:-0500
TZNAME:EST
DTSTART:20251102T060000
END:STANDARD
END:VTIMEZONE
BEGIN:VEVENT
DTSTART;TZID=America/Detroit:20240906T200000
DTEND;TZID=America/Detroit:20240906T230000
DTSTAMP:20260420T043537
CREATED:20231114T140048Z
LAST-MODIFIED:20240725T125712Z
UID:10000395-1725652800-1725663600@theark.org
SUMMARY:Shemekia Copeland
DESCRIPTION:This show has been rescheduled from an earlier date. All previously sold tickets will be honored. Ticket holders have until March 15th to request a refund if unable to attend on the new date. \nShemekia Copeland possesses one of the most instantly recognizable and deeply soulful roots music voices of our time. The multi-GRAMMY nominee is beloved and honored worldwide for the fearlessness\, honesty and humor of her revelatory songs\, as well as for her winning\, engaging personality. The Chicago Tribune says\, “Copeland is the greatest female blues vocalist working today. There’s no mistaking the majesty of her instrument\, nor the ferocity of her delivery.” \n\nOn Copeland’s new album\, Blame It On Eve\, the songs all hit hard\, with jaw-dropping performances that instantly take hold and command repeated listening. “There’s serious business on the new album\,” Copeland says\, “but there are a lot of smiles here too\, a lot of joyous moments. It’s my blues for sure but it’s the brighter side. Issues are always important to me\, but so is rocking\, dancing and just having fun. And that’s something we all can all agree on.” \nWith Blame It On Eve\, Copeland embarks on what she calls “a vacation from all the heaviness.” Blame It On Eve contains plenty of Copeland’s trademark bold and courageous songs\, but here Copeland is also looking to unplug from the weight of the world. “My last three records have dealt with breaking news\,” she says. “This record is for people like me who want a break from the news.”
URL:https://theark.org/event/shemekia-copeland-240906/
LOCATION:The Ark\, 316 S. Main\, Ann Arbor\, MI\, 48104\, United States
ATTACH;FMTTYPE=image/jpeg:https://theark.org/wp-content/uploads/2023/11/ShemekiaCopeland_6941_byJeffBennion-scaled-e1721915821383.jpg
END:VEVENT
END:VCALENDAR