BEGIN:VCALENDAR
VERSION:2.0
PRODID:-//The Ark - ECPv6.15.20//NONSGML v1.0//EN
CALSCALE:GREGORIAN
METHOD:PUBLISH
X-ORIGINAL-URL:https://theark.org
X-WR-CALDESC:Events for The Ark
REFRESH-INTERVAL;VALUE=DURATION:PT1H
X-Robots-Tag:noindex
X-PUBLISHED-TTL:PT1H
BEGIN:VTIMEZONE
TZID:America/Detroit
BEGIN:DAYLIGHT
TZOFFSETFROM:-0500
TZOFFSETTO:-0400
TZNAME:EDT
DTSTART:20230312T070000
END:DAYLIGHT
BEGIN:STANDARD
TZOFFSETFROM:-0400
TZOFFSETTO:-0500
TZNAME:EST
DTSTART:20231105T060000
END:STANDARD
BEGIN:DAYLIGHT
TZOFFSETFROM:-0500
TZOFFSETTO:-0400
TZNAME:EDT
DTSTART:20240310T070000
END:DAYLIGHT
BEGIN:STANDARD
TZOFFSETFROM:-0400
TZOFFSETTO:-0500
TZNAME:EST
DTSTART:20241103T060000
END:STANDARD
BEGIN:DAYLIGHT
TZOFFSETFROM:-0500
TZOFFSETTO:-0400
TZNAME:EDT
DTSTART:20250309T070000
END:DAYLIGHT
BEGIN:STANDARD
TZOFFSETFROM:-0400
TZOFFSETTO:-0500
TZNAME:EST
DTSTART:20251102T060000
END:STANDARD
END:VTIMEZONE
BEGIN:VEVENT
DTSTART;TZID=America/Detroit:20240823T200000
DTEND;TZID=America/Detroit:20240823T230000
DTSTAMP:20260419T155234
CREATED:20240222T150058Z
LAST-MODIFIED:20240215T142831Z
UID:10000501-1724443200-1724454000@theark.org
SUMMARY:The Claudettes
DESCRIPTION:Grounded in roots music yet pushing the boundaries of indie pop and rock\, the Claudettes are writing the most riveting chapter of their story right now. Pianist/songwriter Johnny Iguana formed the Claudettes with drummer Michael Caskey\, dazzling with the barrelhouse bravura of their 2013 debut Infernal Piano Plot…HATCHED! Another Yellow Dog Records release followed in 2015 featuring Nigerian-American singer Yana: No Hotel. Vocalist Berit Ulseth and bassist/vocalist Zach Verdoorn joined the band for Pull Closer to Me: Live in the Piano Room (2017) and Dance Scandal at the Gymnasium (2018\, helmed by Grammy-winning Black Keys producer Mark Neill). \nA new Claudettes era began when the band moved to Forty Below Records and released the acclaimed 2020 album High Times in the Dark and 2022’s The Claudettes Go Out! Now\, the Claudettes introduce Rachel Williams\, a six-foot Texan with a mohawk\, a big voice and powerful stage presence.  \nOutside the Claudettes\, Johnny Iguana has earned a Blues Music Award nomination and Living Blues Award nomination for piano player of the year. Johnny co-founded indie-rock cult favorites Oh My God\, toured as pianist for blues stars Junior Wells and Otis Rush\, played piano on three Grammy-nominated albums and played on albums featuring Buddy Guy\, Junior Wells\, James Cotton\, Derek Trucks\, Gary Clark Jr.\, Shemekia Copeland\, Keb’ Mo’\, Mick Jagger\, Keith Richards and more. Johnny is also co-composer (along with JQ of the Q Brothers) of the score for the hit FX/Hulu series “The Bear\,” which won 10 Emmys and three Golden Globes in 2024. Johnny and JQ have also teamed up to produce new Claudettes tracks that are coming in 2024…
URL:https://theark.org/event/the-claudettes-240823/
LOCATION:The Ark\, 316 S. Main\, Ann Arbor\, MI\, 48104\, United States
ATTACH;FMTTYPE=image/jpeg:https://theark.org/wp-content/uploads/2024/02/THD_9205LORES-1024x683-1.jpg
END:VEVENT
END:VCALENDAR