BEGIN:VCALENDAR
VERSION:2.0
PRODID:-//The Ark - ECPv6.15.20//NONSGML v1.0//EN
CALSCALE:GREGORIAN
METHOD:PUBLISH
X-ORIGINAL-URL:https://theark.org
X-WR-CALDESC:Events for The Ark
REFRESH-INTERVAL;VALUE=DURATION:PT1H
X-Robots-Tag:noindex
X-PUBLISHED-TTL:PT1H
BEGIN:VTIMEZONE
TZID:America/Detroit
BEGIN:DAYLIGHT
TZOFFSETFROM:-0500
TZOFFSETTO:-0400
TZNAME:EDT
DTSTART:20230312T070000
END:DAYLIGHT
BEGIN:STANDARD
TZOFFSETFROM:-0400
TZOFFSETTO:-0500
TZNAME:EST
DTSTART:20231105T060000
END:STANDARD
BEGIN:DAYLIGHT
TZOFFSETFROM:-0500
TZOFFSETTO:-0400
TZNAME:EDT
DTSTART:20240310T070000
END:DAYLIGHT
BEGIN:STANDARD
TZOFFSETFROM:-0400
TZOFFSETTO:-0500
TZNAME:EST
DTSTART:20241103T060000
END:STANDARD
BEGIN:DAYLIGHT
TZOFFSETFROM:-0500
TZOFFSETTO:-0400
TZNAME:EDT
DTSTART:20250309T070000
END:DAYLIGHT
BEGIN:STANDARD
TZOFFSETFROM:-0400
TZOFFSETTO:-0500
TZNAME:EST
DTSTART:20251102T060000
END:STANDARD
END:VTIMEZONE
BEGIN:VEVENT
DTSTART;TZID=America/Detroit:20240822T200000
DTEND;TZID=America/Detroit:20240822T230000
DTSTAMP:20260421T002959
CREATED:20240509T130044Z
LAST-MODIFIED:20240607T145625Z
UID:10000601-1724356800-1724367600@theark.org
SUMMARY:Unplugged: An Evening with The Louie Lee Show
DESCRIPTION:Louie Lee breaks lyrical boundaries in country with thought-provoking ballads and high-energy anthems infused with hip-hop flair. \nRaised in a Metro-Detroit trailer park\, he draws from diverse influences\, creating a unique “Country Hop & Roll” sound. Louie’s intimate\, honest voice and visually captivating live shows push the boundaries of country\, hip-hop\, and rock\, attracting both new and long-time fans. \nJoin The Louie Lee Show for a one night only experience of your favorite songs UNPLUGGED. This special acoustic performance will feature Louie Lee with special guests. Get your tickets today and hear the stories behind the music.
URL:https://theark.org/event/unplugged-an-evening-with-the-louie-lee-show-240822/
LOCATION:The Ark\, 316 S. Main\, Ann Arbor\, MI\, 48104\, United States
ATTACH;FMTTYPE=image/jpeg:https://theark.org/wp-content/uploads/2024/05/Louie-Lee-scaled-e1715176951290.jpg
END:VEVENT
END:VCALENDAR