BEGIN:VCALENDAR
VERSION:2.0
PRODID:-//The Ark - ECPv6.15.20//NONSGML v1.0//EN
CALSCALE:GREGORIAN
METHOD:PUBLISH
X-ORIGINAL-URL:https://theark.org
X-WR-CALDESC:Events for The Ark
REFRESH-INTERVAL;VALUE=DURATION:PT1H
X-Robots-Tag:noindex
X-PUBLISHED-TTL:PT1H
BEGIN:VTIMEZONE
TZID:America/Detroit
BEGIN:DAYLIGHT
TZOFFSETFROM:-0500
TZOFFSETTO:-0400
TZNAME:EDT
DTSTART:20230312T070000
END:DAYLIGHT
BEGIN:STANDARD
TZOFFSETFROM:-0400
TZOFFSETTO:-0500
TZNAME:EST
DTSTART:20231105T060000
END:STANDARD
BEGIN:DAYLIGHT
TZOFFSETFROM:-0500
TZOFFSETTO:-0400
TZNAME:EDT
DTSTART:20240310T070000
END:DAYLIGHT
BEGIN:STANDARD
TZOFFSETFROM:-0400
TZOFFSETTO:-0500
TZNAME:EST
DTSTART:20241103T060000
END:STANDARD
BEGIN:DAYLIGHT
TZOFFSETFROM:-0500
TZOFFSETTO:-0400
TZNAME:EDT
DTSTART:20250309T070000
END:DAYLIGHT
BEGIN:STANDARD
TZOFFSETFROM:-0400
TZOFFSETTO:-0500
TZNAME:EST
DTSTART:20251102T060000
END:STANDARD
END:VTIMEZONE
BEGIN:VEVENT
DTSTART;TZID=America/Detroit:20240820T200000
DTEND;TZID=America/Detroit:20240820T230000
DTSTAMP:20260419T130105
CREATED:20240603T160040Z
LAST-MODIFIED:20240801T125246Z
UID:10000624-1724184000-1724194800@theark.org
SUMMARY:Brett Dennen Golden State of Mind Tour
DESCRIPTION:Brett Dennen\, a Northern California native\, has been captivating audiences for nearly two decades with his distinct blend of folk-pop melodies\, thought-provoking lyrics\, and soulful vocal prowess. His signature red hair and lanky frame are as unmistakable as the music that has earned him legions of dedicated fans and critical acclaim. Dennen’s musical journey began in earnest at Camp Jack Hazard\, a summer camp where he first discovered his love for singing and songwriting. Drawing inspiration from the likes of Paul Simon\, Bob Dylan\, and Joni Mitchell\, Dennen crafted his own unique style that reflects his passion for storytelling and social commentary.  \nWith a successful string of albums and several Top Ten AAA singles like “Make You Crazy\,” “Wild Child\,” and 2018’s “Already Gone” Dennen has cemented himself as a fixture in American pop/folk music. Characterized by his infectious energy and charisma\, Dennen’s live shows are each a heartfelt expression of his love for music and connection with his audience. His insightful lyrics often touch on themes of love\, nature\, and social justice\, resonating with fans who appreciate the genuine emotion and thoughtfulness behind his art.
URL:https://theark.org/event/brett-dennen-240820/
LOCATION:The Ark\, 316 S. Main\, Ann Arbor\, MI\, 48104\, United States
ATTACH;FMTTYPE=image/jpeg:https://theark.org/wp-content/uploads/2024/05/BrettDennen24-scaled-e1717097044924.jpg
END:VEVENT
END:VCALENDAR