BEGIN:VCALENDAR
VERSION:2.0
PRODID:-//The Ark - ECPv6.15.20//NONSGML v1.0//EN
CALSCALE:GREGORIAN
METHOD:PUBLISH
X-ORIGINAL-URL:https://theark.org
X-WR-CALDESC:Events for The Ark
REFRESH-INTERVAL;VALUE=DURATION:PT1H
X-Robots-Tag:noindex
X-PUBLISHED-TTL:PT1H
BEGIN:VTIMEZONE
TZID:America/Detroit
BEGIN:DAYLIGHT
TZOFFSETFROM:-0500
TZOFFSETTO:-0400
TZNAME:EDT
DTSTART:20230312T070000
END:DAYLIGHT
BEGIN:STANDARD
TZOFFSETFROM:-0400
TZOFFSETTO:-0500
TZNAME:EST
DTSTART:20231105T060000
END:STANDARD
BEGIN:DAYLIGHT
TZOFFSETFROM:-0500
TZOFFSETTO:-0400
TZNAME:EDT
DTSTART:20240310T070000
END:DAYLIGHT
BEGIN:STANDARD
TZOFFSETFROM:-0400
TZOFFSETTO:-0500
TZNAME:EST
DTSTART:20241103T060000
END:STANDARD
BEGIN:DAYLIGHT
TZOFFSETFROM:-0500
TZOFFSETTO:-0400
TZNAME:EDT
DTSTART:20250309T070000
END:DAYLIGHT
BEGIN:STANDARD
TZOFFSETFROM:-0400
TZOFFSETTO:-0500
TZNAME:EST
DTSTART:20251102T060000
END:STANDARD
END:VTIMEZONE
BEGIN:VEVENT
DTSTART;TZID=America/Detroit:20240818T180000
DTEND;TZID=America/Detroit:20240818T230000
DTSTAMP:20260421T080322
CREATED:20240215T193720Z
LAST-MODIFIED:20240408T125154Z
UID:10000503-1724004000-1724022000@theark.org
SUMMARY:Iron & Wine
DESCRIPTION:Sam Beam is a singer-songwriter who has been creating music as Iron & Wine for over a decade. Through the course of seven albums\, numerous EPs and singles\, and the initial volumes of an Archive Series – Iron & Wine has captured the emotion and imagination of listeners with distinctly cinematic songs.
URL:https://theark.org/event/iron-wine-240818/
LOCATION:Masonic Jack White Theatre\, 500 Temple Street\, Detroit\, MI\, 48201\, United States
CATEGORIES:Special Event
ATTACH;FMTTYPE=image/jpeg:https://theark.org/wp-content/uploads/2024/02/081824-Iron-And-Wine.jpg
END:VEVENT
BEGIN:VEVENT
DTSTART;TZID=America/Detroit:20240818T193000
DTEND;TZID=America/Detroit:20240818T230000
DTSTAMP:20260421T080322
CREATED:20240328T130052Z
LAST-MODIFIED:20240328T130414Z
UID:10000548-1724009400-1724022000@theark.org
SUMMARY:Kim Richey
DESCRIPTION:In January 2024\, Kim Richey found herself in Mexico\, gazing out at a sea of people singing along to “I’m Alright\,” one of her classic tracks. The three folks on stage with the veteran\, Grammy-nominated singer-songwriter were also raising their voices in harmony. To her right sat Brandi Carlile\, to her left\, Mary Chapin Carpenter and Brandy Clark. The formidable foursome was participating in a songwriter’s round only half-jokingly dubbed “Titans of Americana” at Carlile’s female-forward Girls Just Wanna Weekend festival on the Riviera Maya in Mexico. \n“That was nuts looking out and seeing everybody arm-waving and singing along\,” says Richey\, still both incredulous and cheered by the memory of performing with that supergroup and later appearing alongside other Girls Just Wanna Weekend-ers Annie Lennox\, Lucius\, Allison Russell\, and Sarah McLachlan among others. “It was just like\, ‘wow’!” \nThe good news for fans of this particular Titan is there will soon be a whole new batch of songs to sing along with and arm wave to with the forthcoming release of her 10th studio album Every New Beginning. The 10 songs on Every New Beginning represent the full spectrum of the Ohio native’s gifts as both a revered songwriter who can leap from melancholy to mirthful in a single couplet — whose songs have been recorded by the likes of Brooks and Dunn\, Patty Loveless\, and Mary Chapin Carpenter — and owner of one of music’s truly celestial voices.  \nThat voice\, which Brandi Carlile has cited as formative in crafting her own style\, is a widely sought after harmony instrument and has been featured on scores of albums including Jason Isbell’s acclaimed Southeastern\, Trisha Yearwood’s Everybody Knows\, Heartbreaker by Ryan Adams\, Reba McEntire’s Starting Over\, and Has Been by Capt. Kirk himself\, William Shatner\, among many others.  
URL:https://theark.org/event/kim-richey-240818/
LOCATION:The Ark\, 316 S. Main\, Ann Arbor\, MI\, 48104\, United States
ATTACH;FMTTYPE=image/jpeg:https://theark.org/wp-content/uploads/2024/03/kim-richey3-e1711478980646.jpg
END:VEVENT
END:VCALENDAR