BEGIN:VCALENDAR
VERSION:2.0
PRODID:-//The Ark - ECPv6.15.20//NONSGML v1.0//EN
CALSCALE:GREGORIAN
METHOD:PUBLISH
X-WR-CALNAME:The Ark
X-ORIGINAL-URL:https://theark.org
X-WR-CALDESC:Events for The Ark
REFRESH-INTERVAL;VALUE=DURATION:PT1H
X-Robots-Tag:noindex
X-PUBLISHED-TTL:PT1H
BEGIN:VTIMEZONE
TZID:America/Detroit
BEGIN:DAYLIGHT
TZOFFSETFROM:-0500
TZOFFSETTO:-0400
TZNAME:EDT
DTSTART:20230312T070000
END:DAYLIGHT
BEGIN:STANDARD
TZOFFSETFROM:-0400
TZOFFSETTO:-0500
TZNAME:EST
DTSTART:20231105T060000
END:STANDARD
BEGIN:DAYLIGHT
TZOFFSETFROM:-0500
TZOFFSETTO:-0400
TZNAME:EDT
DTSTART:20240310T070000
END:DAYLIGHT
BEGIN:STANDARD
TZOFFSETFROM:-0400
TZOFFSETTO:-0500
TZNAME:EST
DTSTART:20241103T060000
END:STANDARD
BEGIN:DAYLIGHT
TZOFFSETFROM:-0500
TZOFFSETTO:-0400
TZNAME:EDT
DTSTART:20250309T070000
END:DAYLIGHT
BEGIN:STANDARD
TZOFFSETFROM:-0400
TZOFFSETTO:-0500
TZNAME:EST
DTSTART:20251102T060000
END:STANDARD
END:VTIMEZONE
BEGIN:VEVENT
DTSTART;TZID=America/Detroit:20240816T200000
DTEND;TZID=America/Detroit:20240816T230000
DTSTAMP:20260420T204806
CREATED:20240422T164110Z
LAST-MODIFIED:20240813T140748Z
UID:10000576-1723838400-1723849200@theark.org
SUMMARY:Kris Allen
DESCRIPTION:In 2019\, Kris Allen celebrated the 10th anniversary of his American Idol win by releasing “10\,” an album of reimagined acoustic versions of some of his most beloved songs of the previous decade\, including fan-favorite “Waves” and his platinum-selling single “Live Like We’re Dying.” In 2021\, Kris followed this up with the release of “Don’t Stop Dancing” and 4 other singles that launched a new era of music for the Arkansas-born musician. Songs like “Hallelujah! For Now” and “Different Bridges” feature the imaginative songwriting and stunning vocals that put Kris on the map and pave the way for his upcoming album featuring your next favorite song. When not making music and playing it live across the world\, Kris lives in Nashville with his wife Katy and three kids.
URL:https://theark.org/event/kris-allen-240816/
LOCATION:The Ark\, 316 S. Main\, Ann Arbor\, MI\, 48104\, United States
ATTACH;FMTTYPE=image/jpeg:https://theark.org/wp-content/uploads/2024/04/Kris-Allen-web.jpg
END:VEVENT
END:VCALENDAR