BEGIN:VCALENDAR
VERSION:2.0
PRODID:-//The Ark - ECPv6.15.20//NONSGML v1.0//EN
CALSCALE:GREGORIAN
METHOD:PUBLISH
X-ORIGINAL-URL:https://theark.org
X-WR-CALDESC:Events for The Ark
REFRESH-INTERVAL;VALUE=DURATION:PT1H
X-Robots-Tag:noindex
X-PUBLISHED-TTL:PT1H
BEGIN:VTIMEZONE
TZID:America/Detroit
BEGIN:DAYLIGHT
TZOFFSETFROM:-0500
TZOFFSETTO:-0400
TZNAME:EDT
DTSTART:20230312T070000
END:DAYLIGHT
BEGIN:STANDARD
TZOFFSETFROM:-0400
TZOFFSETTO:-0500
TZNAME:EST
DTSTART:20231105T060000
END:STANDARD
BEGIN:DAYLIGHT
TZOFFSETFROM:-0500
TZOFFSETTO:-0400
TZNAME:EDT
DTSTART:20240310T070000
END:DAYLIGHT
BEGIN:STANDARD
TZOFFSETFROM:-0400
TZOFFSETTO:-0500
TZNAME:EST
DTSTART:20241103T060000
END:STANDARD
BEGIN:DAYLIGHT
TZOFFSETFROM:-0500
TZOFFSETTO:-0400
TZNAME:EDT
DTSTART:20250309T070000
END:DAYLIGHT
BEGIN:STANDARD
TZOFFSETFROM:-0400
TZOFFSETTO:-0500
TZNAME:EST
DTSTART:20251102T060000
END:STANDARD
END:VTIMEZONE
BEGIN:VEVENT
DTSTART;TZID=America/Detroit:20240813T193000
DTEND;TZID=America/Detroit:20240813T230000
DTSTAMP:20260419T231711
CREATED:20240319T131342Z
LAST-MODIFIED:20240701T204532Z
UID:10000536-1723577400-1723590000@theark.org
SUMMARY:Iris DeMent
DESCRIPTION:The youngest of 14 children\, Iris DeMent was born in Paragould\, Arkansas\, and moved to California with her devoutly religious family when she was three. As a teenager she absorbed the country music of Loretta Lynn\, Merle Haggard\, and Johnny Cash\, as well as the folk classics of Bob Dylan and Joni Mitchell. Her 1992 debut album\, “Infamous Angel\,” distilled these influences into a poetic yet down-to-earth songwriting style. With a heartfelt\, homespun voice that listeners recognize instantly\, Iris released some of the most powerful roots albums of the 1990s with the beautifully sparse “My Life” and the harder-edged “The Way I Should.” She has continued to make powerful and distinctive albums on her own schedule\, and her latest\, just out\, is “Workin’ on a World.” This striking collection of songs faces the modern world—as it is right now—with its climate catastrophe\, pandemic illness\, and epidemic of violence and social injustice. The album not only asks us how we can keep working towards a better world\, but implores us to love each other\, despite our very different ways of seeing. Her songs are her way of healing our broken inner and outer spaces. \nNote early start time!
URL:https://theark.org/event/iris-dement-240813/
LOCATION:The Ark\, 316 S. Main\, Ann Arbor\, MI\, 48104\, United States
ATTACH;FMTTYPE=image/jpeg:https://theark.org/wp-content/uploads/2023/04/Iris-DeMent-by-Dasha-Brown-4-1.jpg
END:VEVENT
END:VCALENDAR