BEGIN:VCALENDAR
VERSION:2.0
PRODID:-//The Ark - ECPv6.15.20//NONSGML v1.0//EN
CALSCALE:GREGORIAN
METHOD:PUBLISH
X-WR-CALNAME:The Ark
X-ORIGINAL-URL:https://theark.org
X-WR-CALDESC:Events for The Ark
REFRESH-INTERVAL;VALUE=DURATION:PT1H
X-Robots-Tag:noindex
X-PUBLISHED-TTL:PT1H
BEGIN:VTIMEZONE
TZID:America/Detroit
BEGIN:DAYLIGHT
TZOFFSETFROM:-0500
TZOFFSETTO:-0400
TZNAME:EDT
DTSTART:20230312T070000
END:DAYLIGHT
BEGIN:STANDARD
TZOFFSETFROM:-0400
TZOFFSETTO:-0500
TZNAME:EST
DTSTART:20231105T060000
END:STANDARD
BEGIN:DAYLIGHT
TZOFFSETFROM:-0500
TZOFFSETTO:-0400
TZNAME:EDT
DTSTART:20240310T070000
END:DAYLIGHT
BEGIN:STANDARD
TZOFFSETFROM:-0400
TZOFFSETTO:-0500
TZNAME:EST
DTSTART:20241103T060000
END:STANDARD
BEGIN:DAYLIGHT
TZOFFSETFROM:-0500
TZOFFSETTO:-0400
TZNAME:EDT
DTSTART:20250309T070000
END:DAYLIGHT
BEGIN:STANDARD
TZOFFSETFROM:-0400
TZOFFSETTO:-0500
TZNAME:EST
DTSTART:20251102T060000
END:STANDARD
END:VTIMEZONE
BEGIN:VEVENT
DTSTART;TZID=America/Detroit:20240812T200000
DTEND;TZID=America/Detroit:20240812T230000
DTSTAMP:20260420T043557
CREATED:20240627T140050Z
LAST-MODIFIED:20240708T133349Z
UID:10000648-1723492800-1723503600@theark.org
SUMMARY:Boxing Banjo
DESCRIPTION:Hailing from the picturesque west coast of Ireland\, Boxing Banjo have quickly become one of the most respected Irish music acts. Comprising four of the most accomplished Irish musicians\, brothers Darragh and Mícheál Healy along with Joseph McNulty and Cillian King have amassed in excess of 20 Irish Championship titles on various instruments in traditional Irish music and singing along with 4 World bodhrán titles. \nHaving made their debut in the USA in 2019\, they have acquired a legion of devoted followers who have been spellbound by their energy\, charisma and musicianship. Described by the Irish Echo as “complete naturals on stage”\, their live shows exude a feel-good factor which persuades the inner dancer and vocalist in every audience member. 
URL:https://theark.org/event/boxing-banjo-240812/
LOCATION:The Ark\, 316 S. Main\, Ann Arbor\, MI\, 48104\, United States
ATTACH;FMTTYPE=image/jpeg:https://theark.org/wp-content/uploads/2024/06/Boxing-Banjo-Photo-2-web.jpg
END:VEVENT
END:VCALENDAR