BEGIN:VCALENDAR
VERSION:2.0
PRODID:-//The Ark - ECPv6.15.20//NONSGML v1.0//EN
CALSCALE:GREGORIAN
METHOD:PUBLISH
X-WR-CALNAME:The Ark
X-ORIGINAL-URL:https://theark.org
X-WR-CALDESC:Events for The Ark
REFRESH-INTERVAL;VALUE=DURATION:PT1H
X-Robots-Tag:noindex
X-PUBLISHED-TTL:PT1H
BEGIN:VTIMEZONE
TZID:America/Detroit
BEGIN:DAYLIGHT
TZOFFSETFROM:-0500
TZOFFSETTO:-0400
TZNAME:EDT
DTSTART:20230312T070000
END:DAYLIGHT
BEGIN:STANDARD
TZOFFSETFROM:-0400
TZOFFSETTO:-0500
TZNAME:EST
DTSTART:20231105T060000
END:STANDARD
BEGIN:DAYLIGHT
TZOFFSETFROM:-0500
TZOFFSETTO:-0400
TZNAME:EDT
DTSTART:20240310T070000
END:DAYLIGHT
BEGIN:STANDARD
TZOFFSETFROM:-0400
TZOFFSETTO:-0500
TZNAME:EST
DTSTART:20241103T060000
END:STANDARD
BEGIN:DAYLIGHT
TZOFFSETFROM:-0500
TZOFFSETTO:-0400
TZNAME:EDT
DTSTART:20250309T070000
END:DAYLIGHT
BEGIN:STANDARD
TZOFFSETFROM:-0400
TZOFFSETTO:-0500
TZNAME:EST
DTSTART:20251102T060000
END:STANDARD
END:VTIMEZONE
BEGIN:VEVENT
DTSTART;TZID=America/Detroit:20240804T193000
DTEND;TZID=America/Detroit:20240804T230000
DTSTAMP:20260420T223024
CREATED:20240314T130034Z
LAST-MODIFIED:20240725T170720Z
UID:10000534-1722799800-1722812400@theark.org
SUMMARY:Peter Yarrow
DESCRIPTION:This performance has been rescheduled to 5/2/25 at 8:00pm. Previously purchased tickets will be honored on the new date. If ticket buyers are unable to attend on the rescheduled date\, a refund may be requested from the original point of purchase until 8/12/24. \nPeter Yarrow co-wrote “Puff\, the Magic Dragon\,” and by any measure he’s one of America’s most beloved folk singers. With Peter\, Paul & Mary in the 1960s and beyond\, he was part of a group that changed the world of music. He’s been active in changing the wider world as well\, and he has never slowed down since the birth of Peter\, Paul & Mary during the Kennedy administration. In 1969 he was one of the organizers of the antiwar March on Washington. In support of the rights of Jews in the former Soviet Union he wrote the anthem “Don’t Let the Light Go Out.” In 2000 he founded Operation Respect\, a set of school and camp curricula designed to promote a culture of tolerance and respect. Peter’s recent appearances have emphasized music as a shared message and an antidote to mean-spiritedness and intolerance.
URL:https://theark.org/event/peter-yarrow-240804/
LOCATION:The Ark\, 316 S. Main\, Ann Arbor\, MI\, 48104\, United States
CATEGORIES:Postponed
ATTACH;FMTTYPE=image/jpeg:https://theark.org/wp-content/uploads/2024/03/peteryarrowHR2.jpg
END:VEVENT
END:VCALENDAR