BEGIN:VCALENDAR
VERSION:2.0
PRODID:-//The Ark - ECPv6.15.20//NONSGML v1.0//EN
CALSCALE:GREGORIAN
METHOD:PUBLISH
X-ORIGINAL-URL:https://theark.org
X-WR-CALDESC:Events for The Ark
REFRESH-INTERVAL;VALUE=DURATION:PT1H
X-Robots-Tag:noindex
X-PUBLISHED-TTL:PT1H
BEGIN:VTIMEZONE
TZID:America/Detroit
BEGIN:DAYLIGHT
TZOFFSETFROM:-0500
TZOFFSETTO:-0400
TZNAME:EDT
DTSTART:20230312T070000
END:DAYLIGHT
BEGIN:STANDARD
TZOFFSETFROM:-0400
TZOFFSETTO:-0500
TZNAME:EST
DTSTART:20231105T060000
END:STANDARD
BEGIN:DAYLIGHT
TZOFFSETFROM:-0500
TZOFFSETTO:-0400
TZNAME:EDT
DTSTART:20240310T070000
END:DAYLIGHT
BEGIN:STANDARD
TZOFFSETFROM:-0400
TZOFFSETTO:-0500
TZNAME:EST
DTSTART:20241103T060000
END:STANDARD
BEGIN:DAYLIGHT
TZOFFSETFROM:-0500
TZOFFSETTO:-0400
TZNAME:EDT
DTSTART:20250309T070000
END:DAYLIGHT
BEGIN:STANDARD
TZOFFSETFROM:-0400
TZOFFSETTO:-0500
TZNAME:EST
DTSTART:20251102T060000
END:STANDARD
END:VTIMEZONE
BEGIN:VEVENT
DTSTART;TZID=America/Detroit:20240802T200000
DTEND;TZID=America/Detroit:20240802T230000
DTSTAMP:20260420T204816
CREATED:20240321T130023Z
LAST-MODIFIED:20240320T123748Z
UID:10000540-1722628800-1722639600@theark.org
SUMMARY:Jeremy Pinnell
DESCRIPTION:When Jeremy Pinnell released OH/KY in the summer of 2015 to stunned acclaim\, it felt like an entire career compressed into one knock-out album. Hailed as\, a “Mind-blowingly good” (Greg Vandy/KEXP) “ ”tutorial on classic country music” (Popmatters)\, Pinnell’s debut immediately differentiated as authentic and unflinching. His 2017 album\, Ties of Blood and Affection presented a canny lateral move. Instead of doubling down on the stark themes and values of his debut\, the sophomore album found Pinnell finding comfort in his own skin\, achieving the redemption only hinted at in his previous batch of haunted songs.  \nIf the third time’s a charm\, Pinnell is all shine and sparkle on Goodbye LA. Produced by Texan Jonathan Tyler\, the tunes buff the wax and polish the chrome on Country music’s deeper roots. Rooted in his steady acoustic guitar\, Pinnell’s songs are shot through with honest and classic elements. Honest and careworn\, Jeremy’s voice can touch on wry\, jubilant\, and debauched – all in a single line.  At his best\, Jeremy Pinnell chronicles the joy and sorrow of being human\, which is the best that anyone could do.
URL:https://theark.org/event/jeremy-pinnell-240802/
LOCATION:The Ark\, 316 S. Main\, Ann Arbor\, MI\, 48104\, United States
ATTACH;FMTTYPE=image/jpeg:https://theark.org/wp-content/uploads/2024/03/Jeremy-Pinnell-scaled-e1710941752956.jpg
END:VEVENT
END:VCALENDAR