BEGIN:VCALENDAR
VERSION:2.0
PRODID:-//The Ark - ECPv6.15.20//NONSGML v1.0//EN
CALSCALE:GREGORIAN
METHOD:PUBLISH
X-ORIGINAL-URL:https://theark.org
X-WR-CALDESC:Events for The Ark
REFRESH-INTERVAL;VALUE=DURATION:PT1H
X-Robots-Tag:noindex
X-PUBLISHED-TTL:PT1H
BEGIN:VTIMEZONE
TZID:America/Detroit
BEGIN:DAYLIGHT
TZOFFSETFROM:-0500
TZOFFSETTO:-0400
TZNAME:EDT
DTSTART:20230312T070000
END:DAYLIGHT
BEGIN:STANDARD
TZOFFSETFROM:-0400
TZOFFSETTO:-0500
TZNAME:EST
DTSTART:20231105T060000
END:STANDARD
BEGIN:DAYLIGHT
TZOFFSETFROM:-0500
TZOFFSETTO:-0400
TZNAME:EDT
DTSTART:20240310T070000
END:DAYLIGHT
BEGIN:STANDARD
TZOFFSETFROM:-0400
TZOFFSETTO:-0500
TZNAME:EST
DTSTART:20241103T060000
END:STANDARD
BEGIN:DAYLIGHT
TZOFFSETFROM:-0500
TZOFFSETTO:-0400
TZNAME:EDT
DTSTART:20250309T070000
END:DAYLIGHT
BEGIN:STANDARD
TZOFFSETFROM:-0400
TZOFFSETTO:-0500
TZNAME:EST
DTSTART:20251102T060000
END:STANDARD
END:VTIMEZONE
BEGIN:VEVENT
DTSTART;TZID=America/Detroit:20240731T200000
DTEND;TZID=America/Detroit:20240731T230000
DTSTAMP:20260421T022952
CREATED:20240425T130022Z
LAST-MODIFIED:20240502T144418Z
UID:10000584-1722456000-1722466800@theark.org
SUMMARY:Al Bettis
DESCRIPTION:Al Bettis was inspired to start writing and singing music at age 30. He felt a spiritual calling to heal the world through music\, so he picked up a guitar and a notepad and got to work. The self-trained acoustic guitarist has gained popularity for his smooth vocals and sincere lyrics. His shows are a journey through love\, heartbreak and redemption as he offers stories about the musings behind many of his songs. His soothing voice is reminiscent of legends like Al Green and Otis Redding\, with musical influence from artists such as Ed Sheeran and Jason Mraz. \n 
URL:https://theark.org/event/al-bettis-240731/
LOCATION:The Ark\, 316 S. Main\, Ann Arbor\, MI\, 48104\, United States
ATTACH;FMTTYPE=image/jpeg:https://theark.org/wp-content/uploads/2023/04/Al_Bettis_Guitar_2019-1.jpg
END:VEVENT
END:VCALENDAR