BEGIN:VCALENDAR
VERSION:2.0
PRODID:-//The Ark - ECPv6.15.20//NONSGML v1.0//EN
CALSCALE:GREGORIAN
METHOD:PUBLISH
X-WR-CALNAME:The Ark
X-ORIGINAL-URL:https://theark.org
X-WR-CALDESC:Events for The Ark
REFRESH-INTERVAL;VALUE=DURATION:PT1H
X-Robots-Tag:noindex
X-PUBLISHED-TTL:PT1H
BEGIN:VTIMEZONE
TZID:America/Detroit
BEGIN:DAYLIGHT
TZOFFSETFROM:-0500
TZOFFSETTO:-0400
TZNAME:EDT
DTSTART:20230312T070000
END:DAYLIGHT
BEGIN:STANDARD
TZOFFSETFROM:-0400
TZOFFSETTO:-0500
TZNAME:EST
DTSTART:20231105T060000
END:STANDARD
BEGIN:DAYLIGHT
TZOFFSETFROM:-0500
TZOFFSETTO:-0400
TZNAME:EDT
DTSTART:20240310T070000
END:DAYLIGHT
BEGIN:STANDARD
TZOFFSETFROM:-0400
TZOFFSETTO:-0500
TZNAME:EST
DTSTART:20241103T060000
END:STANDARD
BEGIN:DAYLIGHT
TZOFFSETFROM:-0500
TZOFFSETTO:-0400
TZNAME:EDT
DTSTART:20250309T070000
END:DAYLIGHT
BEGIN:STANDARD
TZOFFSETFROM:-0400
TZOFFSETTO:-0500
TZNAME:EST
DTSTART:20251102T060000
END:STANDARD
END:VTIMEZONE
BEGIN:VEVENT
DTSTART;TZID=America/Detroit:20240429T200000
DTEND;TZID=America/Detroit:20240429T230000
DTSTAMP:20260424T132529
CREATED:20231214T150048Z
LAST-MODIFIED:20240425T143714Z
UID:10000437-1714420800-1714431600@theark.org
SUMMARY:George Crotty Trio
DESCRIPTION:George Crotty has forged his own exciting vocabulary on the cello\,  pushing the boundaries of the cello as a jazz instrument. Following his graduation from the Berklee College of Music\, Crotty immersed himself in New York’s jazz and world music scenes\, playing with several ensembles\, such as the Brooklyn Raga Massive\, and the Detroit-based National Arab Orchestra. Additionally\, he has enjoyed fruitful collaborations with Simon Shaheen\, Paquito D’Rivera\, Anat Cohen\, and Darol Anger. The George Crotty Trio’s “Chronotope” (2022) showcases the Canadian cellist’s expressive fluidity and modal orientation. The group’s cross-cultural interplay draws on diverse influences within jazz and global music traditions including post-bop\, modal jazz\, Indian raga\, and Arabic maqam.
URL:https://theark.org/event/george-crotty-trio-240429/
LOCATION:The Ark\, 316 S. Main\, Ann Arbor\, MI\, 48104\, United States
CATEGORIES:Cancelled
ATTACH;FMTTYPE=image/jpeg:https://theark.org/wp-content/uploads/2023/12/GCrotty_Photo-1-scaled-e1702480818122.jpg
END:VEVENT
END:VCALENDAR