BEGIN:VCALENDAR
VERSION:2.0
PRODID:-//The Ark - ECPv6.15.20//NONSGML v1.0//EN
CALSCALE:GREGORIAN
METHOD:PUBLISH
X-ORIGINAL-URL:https://theark.org
X-WR-CALDESC:Events for The Ark
REFRESH-INTERVAL;VALUE=DURATION:PT1H
X-Robots-Tag:noindex
X-PUBLISHED-TTL:PT1H
BEGIN:VTIMEZONE
TZID:America/Detroit
BEGIN:DAYLIGHT
TZOFFSETFROM:-0500
TZOFFSETTO:-0400
TZNAME:EDT
DTSTART:20230312T070000
END:DAYLIGHT
BEGIN:STANDARD
TZOFFSETFROM:-0400
TZOFFSETTO:-0500
TZNAME:EST
DTSTART:20231105T060000
END:STANDARD
BEGIN:DAYLIGHT
TZOFFSETFROM:-0500
TZOFFSETTO:-0400
TZNAME:EDT
DTSTART:20240310T070000
END:DAYLIGHT
BEGIN:STANDARD
TZOFFSETFROM:-0400
TZOFFSETTO:-0500
TZNAME:EST
DTSTART:20241103T060000
END:STANDARD
BEGIN:DAYLIGHT
TZOFFSETFROM:-0500
TZOFFSETTO:-0400
TZNAME:EDT
DTSTART:20250309T070000
END:DAYLIGHT
BEGIN:STANDARD
TZOFFSETFROM:-0400
TZOFFSETTO:-0500
TZNAME:EST
DTSTART:20251102T060000
END:STANDARD
END:VTIMEZONE
BEGIN:VEVENT
DTSTART;TZID=America/Detroit:20240427T200000
DTEND;TZID=America/Detroit:20240427T230000
DTSTAMP:20260425T132640
CREATED:20231014T125238Z
LAST-MODIFIED:20240418T164936Z
UID:10000302-1714248000-1714258800@theark.org
SUMMARY:Sarah Jarosz: Polaroid Lovers Tour
DESCRIPTION:Four-time GRAMMY winner Sarah Jarosz has announced her new album\, “Polaroid Lovers\,” and she’s bringing it to The Ark! The record is releasing on January 26\, 2024 via Rounder Records. It features a decidedly more electric sound than Sarah’s earlier bluegrass-flavored efforts\, and it shows this brilliant artist maturing as a songwriter. A Texas native\, she’s spent most of her adult life living in New York City\, but shortly before writing the album Sarah left her adopted home to join her soon-to-be husband in Nashville. The geographic shake-up led to a sonic one as well for “Polaroid Lovers.” For the first time in her career she opened herself up to collaborators\, leading to writing sessions with Daniel Tashian\, Ruston Kelly and Natalie Hemby. “‘Polaroid Lovers” is an album-long meditation on those strangely ephemeral moments that indelibly shape our lives. “What I love about a Polaroid is that it’s capturing something so fleeting\, but at the same time it makes that moment last forever\,” says Sarah. “It made sense as a title for a record where all the songs are snapshots of different love stories\, and there’s a feeling of time being expansive despite that impermanence.” \nTonight’s show is sponsored by Dartbank Wealth \n\nThe Polaroid Lovers Tour VIP Experience Includes: \n\nOne (1) general admission — OR — premium reserved ticket (varies by show)\nPre-show soundcheck performance\nQ&A with Sarah\nGroup photo with Sarah (Sarah stays on stage)\nExclusive signed poster\nEarly entry into the venue
URL:https://theark.org/event/sarah-jarosz-240427/
LOCATION:The Ark\, 316 S. Main\, Ann Arbor\, MI\, 48104\, United States
CATEGORIES:Sold Out
ATTACH;FMTTYPE=image/jpeg:https://theark.org/wp-content/uploads/2023/10/Sarah-Jarosz_Polaroid-Lovers-Press-Photo-scaled-e1697567764813.jpg
END:VEVENT
END:VCALENDAR