BEGIN:VCALENDAR
VERSION:2.0
PRODID:-//The Ark - ECPv6.15.20//NONSGML v1.0//EN
CALSCALE:GREGORIAN
METHOD:PUBLISH
X-WR-CALNAME:The Ark
X-ORIGINAL-URL:https://theark.org
X-WR-CALDESC:Events for The Ark
REFRESH-INTERVAL;VALUE=DURATION:PT1H
X-Robots-Tag:noindex
X-PUBLISHED-TTL:PT1H
BEGIN:VTIMEZONE
TZID:America/Detroit
BEGIN:DAYLIGHT
TZOFFSETFROM:-0500
TZOFFSETTO:-0400
TZNAME:EDT
DTSTART:20230312T070000
END:DAYLIGHT
BEGIN:STANDARD
TZOFFSETFROM:-0400
TZOFFSETTO:-0500
TZNAME:EST
DTSTART:20231105T060000
END:STANDARD
BEGIN:DAYLIGHT
TZOFFSETFROM:-0500
TZOFFSETTO:-0400
TZNAME:EDT
DTSTART:20240310T070000
END:DAYLIGHT
BEGIN:STANDARD
TZOFFSETFROM:-0400
TZOFFSETTO:-0500
TZNAME:EST
DTSTART:20241103T060000
END:STANDARD
BEGIN:DAYLIGHT
TZOFFSETFROM:-0500
TZOFFSETTO:-0400
TZNAME:EDT
DTSTART:20250309T070000
END:DAYLIGHT
BEGIN:STANDARD
TZOFFSETFROM:-0400
TZOFFSETTO:-0500
TZNAME:EST
DTSTART:20251102T060000
END:STANDARD
END:VTIMEZONE
BEGIN:VEVENT
DTSTART;TZID=America/Detroit:20240415T200000
DTEND;TZID=America/Detroit:20240415T230000
DTSTAMP:20260425T214141
CREATED:20231014T125552Z
LAST-MODIFIED:20240215T183620Z
UID:10000304-1713211200-1713222000@theark.org
SUMMARY:Oumou Sangare
DESCRIPTION:“The Songbird of Wassoulou” brings the music of Mali to Michigan! Oumou Sangaré is a true icon of West Africa whose powerful music and fierce feminism have inspired artists from Alicia Keys to Aya Nakamura to Beyoncé. The songs on her most recent album\, “Timbuktu\,”  were largely written in Baltimore during the lockdowns of the COVID pandemic. The album blends the sounds of traditional West African instruments with those of instruments most associated with the blues. Oumou will share music from this ambitious album as well as sounds from throughout her acclaimed career. How acclaimed? The New Yorker says\, “Percussive\, danceable\, and haunting\, the singer’s visionary mix is the primary reason that her voice has come to carry as much respect as Aretha Franklin’s.”
URL:https://theark.org/event/oumou-sangare-240415/
LOCATION:The Ark\, 316 S. Main\, Ann Arbor\, MI\, 48104\, United States
ATTACH;FMTTYPE=image/jpeg:https://theark.org/wp-content/uploads/2023/10/Oumou-Sangare.jpg
END:VEVENT
END:VCALENDAR