BEGIN:VCALENDAR
VERSION:2.0
PRODID:-//The Ark - ECPv6.15.20//NONSGML v1.0//EN
CALSCALE:GREGORIAN
METHOD:PUBLISH
X-ORIGINAL-URL:https://theark.org
X-WR-CALDESC:Events for The Ark
REFRESH-INTERVAL;VALUE=DURATION:PT1H
X-Robots-Tag:noindex
X-PUBLISHED-TTL:PT1H
BEGIN:VTIMEZONE
TZID:America/Detroit
BEGIN:DAYLIGHT
TZOFFSETFROM:-0500
TZOFFSETTO:-0400
TZNAME:EDT
DTSTART:20230312T070000
END:DAYLIGHT
BEGIN:STANDARD
TZOFFSETFROM:-0400
TZOFFSETTO:-0500
TZNAME:EST
DTSTART:20231105T060000
END:STANDARD
BEGIN:DAYLIGHT
TZOFFSETFROM:-0500
TZOFFSETTO:-0400
TZNAME:EDT
DTSTART:20240310T070000
END:DAYLIGHT
BEGIN:STANDARD
TZOFFSETFROM:-0400
TZOFFSETTO:-0500
TZNAME:EST
DTSTART:20241103T060000
END:STANDARD
BEGIN:DAYLIGHT
TZOFFSETFROM:-0500
TZOFFSETTO:-0400
TZNAME:EDT
DTSTART:20250309T070000
END:DAYLIGHT
BEGIN:STANDARD
TZOFFSETFROM:-0400
TZOFFSETTO:-0500
TZNAME:EST
DTSTART:20251102T060000
END:STANDARD
END:VTIMEZONE
BEGIN:VEVENT
DTSTART;TZID=America/Detroit:20240413T200000
DTEND;TZID=America/Detroit:20240413T230000
DTSTAMP:20260425T234728
CREATED:20240201T150010Z
LAST-MODIFIED:20240315T151754Z
UID:10000487-1713038400-1713049200@theark.org
SUMMARY:Frontier Ruckus
DESCRIPTION:Since the release of their 2008 debut album\, the songs of Frontier Ruckus have delivered a singularly detailed representation of the glorious yet grim minutiae of Midwestern suburban life. The obsessively crafted lyrical world of songwriter Matthew Milia is brought to life by David Jones and Zachary Nichols whose instrumental contributions serve as colorfully instinctive extensions. From stages at Lollapalooza and Bonnaroo to the intimate living rooms of fans\, this magnetic chemistry has helped Frontier Ruckus garner a dedicated following across the United States and Europe.  \nFrontier Ruckus have just released their new album On the Northline via Loose Music. Their first full length release since 2017’s Enter The Kingdom\, the new record exemplifies the group’s intricate orchestral folk pop sound which has endeared them to fans nationwide\, backdropping guitarist/singer/lyricist Matthew Milia’s poetic observations on the mundane and the holy. \nPremium Rat\, a singer songwriter with punk tendencies\, opens.
URL:https://theark.org/event/frontier-ruckus-240413/
LOCATION:The Ark\, 316 S. Main\, Ann Arbor\, MI\, 48104\, United States
ATTACH;FMTTYPE=image/jpeg:https://theark.org/wp-content/uploads/2024/02/FrontierRuckus-21-scaled.jpg
END:VEVENT
END:VCALENDAR