BEGIN:VCALENDAR
VERSION:2.0
PRODID:-//The Ark - ECPv6.15.20//NONSGML v1.0//EN
CALSCALE:GREGORIAN
METHOD:PUBLISH
X-WR-CALNAME:The Ark
X-ORIGINAL-URL:https://theark.org
X-WR-CALDESC:Events for The Ark
REFRESH-INTERVAL;VALUE=DURATION:PT1H
X-Robots-Tag:noindex
X-PUBLISHED-TTL:PT1H
BEGIN:VTIMEZONE
TZID:America/Detroit
BEGIN:DAYLIGHT
TZOFFSETFROM:-0500
TZOFFSETTO:-0400
TZNAME:EDT
DTSTART:20230312T070000
END:DAYLIGHT
BEGIN:STANDARD
TZOFFSETFROM:-0400
TZOFFSETTO:-0500
TZNAME:EST
DTSTART:20231105T060000
END:STANDARD
BEGIN:DAYLIGHT
TZOFFSETFROM:-0500
TZOFFSETTO:-0400
TZNAME:EDT
DTSTART:20240310T070000
END:DAYLIGHT
BEGIN:STANDARD
TZOFFSETFROM:-0400
TZOFFSETTO:-0500
TZNAME:EST
DTSTART:20241103T060000
END:STANDARD
BEGIN:DAYLIGHT
TZOFFSETFROM:-0500
TZOFFSETTO:-0400
TZNAME:EDT
DTSTART:20250309T070000
END:DAYLIGHT
BEGIN:STANDARD
TZOFFSETFROM:-0400
TZOFFSETTO:-0500
TZNAME:EST
DTSTART:20251102T060000
END:STANDARD
END:VTIMEZONE
BEGIN:VEVENT
DTSTART;TZID=America/Detroit:20240411T200000
DTEND;TZID=America/Detroit:20240411T230000
DTSTAMP:20260425T172551
CREATED:20240125T150036Z
LAST-MODIFIED:20240123T181543Z
UID:10000471-1712865600-1712876400@theark.org
SUMMARY:Amy Speace
DESCRIPTION:Heralded by Rolling Stone and Billboard Magazine\, Amy Speace is one of contemporary folk and Americana music’s leading voices. Lauded by mentors Judy Collins\, Tom Paxton and Janis Ian\, as well as the songwriting community in Nashville\, her songs have been recorded by Judy Collins\, Red Molly\, Sid Selvidge among others. After 20 years of touring\, she has played concerts all across the US and Europe and has graced stages from Glastonbury Festival\, Cambridge Folk Festival in the UK to Rocky Mountain Folks Festival and Mountain Stage.  \nShe began her career in the iconic folk venues of New York City where she was discovered by Judy Collins and signed to her Wildflower Records label. Relocating to Nashville in 2009\, she quickly became embraced by the songwriting community\, with regular shows at The Bluebird Café as well as her international touring.  In 2020\, her song “Me and the Ghost of Charlemagne” was named International Song of the Year by the Americana Music Association UK. Her 2021 release\, “There Used To Be Horses Here” received widespread critical acclaim from Rolling Stone to Billboard. Performing Songwriter gave it 5 out of 5 stars and named it as the #4 release of 2021. Her latest album\, “Tucson” (Windbone/Proper Records) landed #1 on the Folk Radio Charts in April\, 2022 and was widely lauded as one of Speace’s finest work. Her 2013 record\, “How To Sleep In A Stormy Boat\,” which was featured on NPR’s All Things Considered was named to the Top 10 Albums of the century.
URL:https://theark.org/event/amy-speace-24041/
LOCATION:The Ark\, 316 S. Main\, Ann Arbor\, MI\, 48104\, United States
ATTACH;FMTTYPE=image/jpeg:https://theark.org/wp-content/uploads/2024/01/AmySpeace24.jpg
END:VEVENT
END:VCALENDAR