BEGIN:VCALENDAR
VERSION:2.0
PRODID:-//The Ark - ECPv6.15.20//NONSGML v1.0//EN
CALSCALE:GREGORIAN
METHOD:PUBLISH
X-WR-CALNAME:The Ark
X-ORIGINAL-URL:https://theark.org
X-WR-CALDESC:Events for The Ark
REFRESH-INTERVAL;VALUE=DURATION:PT1H
X-Robots-Tag:noindex
X-PUBLISHED-TTL:PT1H
BEGIN:VTIMEZONE
TZID:America/Detroit
BEGIN:DAYLIGHT
TZOFFSETFROM:-0500
TZOFFSETTO:-0400
TZNAME:EDT
DTSTART:20230312T070000
END:DAYLIGHT
BEGIN:STANDARD
TZOFFSETFROM:-0400
TZOFFSETTO:-0500
TZNAME:EST
DTSTART:20231105T060000
END:STANDARD
BEGIN:DAYLIGHT
TZOFFSETFROM:-0500
TZOFFSETTO:-0400
TZNAME:EDT
DTSTART:20240310T070000
END:DAYLIGHT
BEGIN:STANDARD
TZOFFSETFROM:-0400
TZOFFSETTO:-0500
TZNAME:EST
DTSTART:20241103T060000
END:STANDARD
BEGIN:DAYLIGHT
TZOFFSETFROM:-0500
TZOFFSETTO:-0400
TZNAME:EDT
DTSTART:20250309T070000
END:DAYLIGHT
BEGIN:STANDARD
TZOFFSETFROM:-0400
TZOFFSETTO:-0500
TZNAME:EST
DTSTART:20251102T060000
END:STANDARD
END:VTIMEZONE
BEGIN:VEVENT
DTSTART;TZID=America/Detroit:20240407T193000
DTEND;TZID=America/Detroit:20240407T230000
DTSTAMP:20260424T132639
CREATED:20231130T150032Z
LAST-MODIFIED:20240322T162514Z
UID:10000423-1712518200-1712530800@theark.org
SUMMARY:Hot Club of Cowtown
DESCRIPTION:The Austin-based Hot Club of Cowtown explores the space where early jazz met Texas swing\, where Joe Venuti and Eddie Lang met Bob Wills and His Texas Playboys. Guitarist Whit Smith and fiddler Elana James have become a world-class country-jazz duo\, challenging each other and reading each other’s minds at every turn. This is virtuoso small-group western swing that’s beyond infectious. If you’ve seen the Hot Club before\, be advised that they’re only getting better—they went on hiatus\, got back together\, and came out of it stronger. By now they’re one of the great improvising bands in any genre. Robin Denselow of the London Guardian praises the Hot Club for “spirit\, originality\, and skill that would surely have impressed Stéphane Grappelli and Django Reinhardt back in the 1930s.” 
URL:https://theark.org/event/hot-club-of-cowtown/
LOCATION:The Ark\, 316 S. Main\, Ann Arbor\, MI\, 48104\, United States
ATTACH;FMTTYPE=image/jpeg:https://theark.org/wp-content/uploads/2023/11/Hot-Club-of-Cowtown-2023-Photo-by-Melissa-Nicholson-scaled-1-e1701269213919.jpg
END:VEVENT
END:VCALENDAR