BEGIN:VCALENDAR
VERSION:2.0
PRODID:-//The Ark - ECPv6.15.20//NONSGML v1.0//EN
CALSCALE:GREGORIAN
METHOD:PUBLISH
X-ORIGINAL-URL:https://theark.org
X-WR-CALDESC:Events for The Ark
REFRESH-INTERVAL;VALUE=DURATION:PT1H
X-Robots-Tag:noindex
X-PUBLISHED-TTL:PT1H
BEGIN:VTIMEZONE
TZID:America/Detroit
BEGIN:DAYLIGHT
TZOFFSETFROM:-0500
TZOFFSETTO:-0400
TZNAME:EDT
DTSTART:20230312T070000
END:DAYLIGHT
BEGIN:STANDARD
TZOFFSETFROM:-0400
TZOFFSETTO:-0500
TZNAME:EST
DTSTART:20231105T060000
END:STANDARD
BEGIN:DAYLIGHT
TZOFFSETFROM:-0500
TZOFFSETTO:-0400
TZNAME:EDT
DTSTART:20240310T070000
END:DAYLIGHT
BEGIN:STANDARD
TZOFFSETFROM:-0400
TZOFFSETTO:-0500
TZNAME:EST
DTSTART:20241103T060000
END:STANDARD
BEGIN:DAYLIGHT
TZOFFSETFROM:-0500
TZOFFSETTO:-0400
TZNAME:EDT
DTSTART:20250309T070000
END:DAYLIGHT
BEGIN:STANDARD
TZOFFSETFROM:-0400
TZOFFSETTO:-0500
TZNAME:EST
DTSTART:20251102T060000
END:STANDARD
END:VTIMEZONE
BEGIN:VEVENT
DTSTART;TZID=America/Detroit:20240406T200000
DTEND;TZID=America/Detroit:20240406T230000
DTSTAMP:20260423T135924
CREATED:20231205T160056Z
LAST-MODIFIED:20231218T151042Z
UID:10000420-1712433600-1712444400@theark.org
SUMMARY:Raul Malo
DESCRIPTION:When Raul Malo came on the scene as the lead singer of The Mavericks\, he already had a sound that didn’t fit the usual categories\, and a luxuriant voice that brought to mind Roy Orbison. The Mavericks were a country band\, but there was always more to the Mavericks than country: a Latin tinge\, seriously ambitious songwriting\, and a big dose of pure pop passion. For Raul Malo\, The Mavericks were just the beginning of an American musical journey. He has sung in English and Spanish\, and he’s at home with rock\, country\, Cuban music\, and the big-band jazz that fits his romantic vocals so beautifully. He’s sung Latin rock\, acoustic Americana\, and even children’s music. And his voice has only improved with age. It’s a stunning instrument that has the rare quality of being big and intimate at the same time. The Ark has been an ideal venue for Raul’s solo shows\, which are more personal than the music he’s made with The Mavericks\, and his Ark shows over the past decade have lingered in the memories of listeners and the club staff alike. Raul comes to Michigan with a new solo instrumental album\, “Say Less.”
URL:https://theark.org/event/raul-malo-240406/
LOCATION:The Ark\, 316 S. Main\, Ann Arbor\, MI\, 48104\, United States
CATEGORIES:Sold Out
ATTACH;FMTTYPE=image/jpeg:https://theark.org/wp-content/uploads/2023/11/RM-Approved2020-SMALL.jpg
END:VEVENT
END:VCALENDAR