BEGIN:VCALENDAR
VERSION:2.0
PRODID:-//The Ark - ECPv6.15.20//NONSGML v1.0//EN
CALSCALE:GREGORIAN
METHOD:PUBLISH
X-ORIGINAL-URL:https://theark.org
X-WR-CALDESC:Events for The Ark
REFRESH-INTERVAL;VALUE=DURATION:PT1H
X-Robots-Tag:noindex
X-PUBLISHED-TTL:PT1H
BEGIN:VTIMEZONE
TZID:America/Detroit
BEGIN:DAYLIGHT
TZOFFSETFROM:-0500
TZOFFSETTO:-0400
TZNAME:EDT
DTSTART:20230312T070000
END:DAYLIGHT
BEGIN:STANDARD
TZOFFSETFROM:-0400
TZOFFSETTO:-0500
TZNAME:EST
DTSTART:20231105T060000
END:STANDARD
BEGIN:DAYLIGHT
TZOFFSETFROM:-0500
TZOFFSETTO:-0400
TZNAME:EDT
DTSTART:20240310T070000
END:DAYLIGHT
BEGIN:STANDARD
TZOFFSETFROM:-0400
TZOFFSETTO:-0500
TZNAME:EST
DTSTART:20241103T060000
END:STANDARD
BEGIN:DAYLIGHT
TZOFFSETFROM:-0500
TZOFFSETTO:-0400
TZNAME:EDT
DTSTART:20250309T070000
END:DAYLIGHT
BEGIN:STANDARD
TZOFFSETFROM:-0400
TZOFFSETTO:-0500
TZNAME:EST
DTSTART:20251102T060000
END:STANDARD
END:VTIMEZONE
BEGIN:VEVENT
DTSTART;TZID=America/Detroit:20240405T200000
DTEND;TZID=America/Detroit:20240405T230000
DTSTAMP:20260423T135904
CREATED:20240130T160056Z
LAST-MODIFIED:20240402T144927Z
UID:10000477-1712347200-1712358000@theark.org
SUMMARY:Jackie Greene
DESCRIPTION:Americana and roots singer-songwriter Jackie Greene is a jack-of-all-trades and an artist who can croon over soulful piano ballads as much as he can shred a bluesy guitar solo. Since the release of his critically-acclaimed debut album ‘Gone Wanderin’\,’ Greene has built an enduring audience through a relentless touring schedule with the likes of BB King\, Mark Knopfler\, Susan Tedeschi\, and Taj Mahal. He played lead guitar with The Black Crowes on their Layin’ Down With #13 World Tour\, recorded and toured with Trigger Hippy – his supergroup with Joan Osborne – and in the last four years performed over 300 shows of his own\, all while continuing to record and release his solo work. Greene is a frequent member of Phil Lesh & Friends\, and sits in with countless other artists including Tedeschi Trucks Band\, Govt Mule\, Mississippi All-Stars\, Amy Helm\, Steve Earle\, and Bob Weir. \nOpening is Cousin Curtiss. Think “blues at bluegrass speeds.”
URL:https://theark.org/event/jackie-greene-240405/
LOCATION:The Ark\, 316 S. Main\, Ann Arbor\, MI\, 48104\, United States
ATTACH;FMTTYPE=image/jpeg:https://theark.org/wp-content/uploads/2024/01/JackieGreene-New-Headshot-2022-web.jpg
END:VEVENT
END:VCALENDAR