BEGIN:VCALENDAR
VERSION:2.0
PRODID:-//The Ark - ECPv6.15.20//NONSGML v1.0//EN
CALSCALE:GREGORIAN
METHOD:PUBLISH
X-WR-CALNAME:The Ark
X-ORIGINAL-URL:https://theark.org
X-WR-CALDESC:Events for The Ark
REFRESH-INTERVAL;VALUE=DURATION:PT1H
X-Robots-Tag:noindex
X-PUBLISHED-TTL:PT1H
BEGIN:VTIMEZONE
TZID:America/Detroit
BEGIN:DAYLIGHT
TZOFFSETFROM:-0500
TZOFFSETTO:-0400
TZNAME:EDT
DTSTART:20230312T070000
END:DAYLIGHT
BEGIN:STANDARD
TZOFFSETFROM:-0400
TZOFFSETTO:-0500
TZNAME:EST
DTSTART:20231105T060000
END:STANDARD
BEGIN:DAYLIGHT
TZOFFSETFROM:-0500
TZOFFSETTO:-0400
TZNAME:EDT
DTSTART:20240310T070000
END:DAYLIGHT
BEGIN:STANDARD
TZOFFSETFROM:-0400
TZOFFSETTO:-0500
TZNAME:EST
DTSTART:20241103T060000
END:STANDARD
BEGIN:DAYLIGHT
TZOFFSETFROM:-0500
TZOFFSETTO:-0400
TZNAME:EDT
DTSTART:20250309T070000
END:DAYLIGHT
BEGIN:STANDARD
TZOFFSETFROM:-0400
TZOFFSETTO:-0500
TZNAME:EST
DTSTART:20251102T060000
END:STANDARD
END:VTIMEZONE
BEGIN:VEVENT
DTSTART;TZID=America/Detroit:20240403T200000
DTEND;TZID=America/Detroit:20240403T230000
DTSTAMP:20260425T092224
CREATED:20231014T130742Z
LAST-MODIFIED:20240115T195134Z
UID:10000307-1712174400-1712185200@theark.org
SUMMARY:Louisiana Calling with The Sonny Landreth Band and The Iguanas
DESCRIPTION:The deep roots tag team of Cajun slide guitar phenom Sonny Landreth and legendary New Orleans Latin-Americana rockers the Iguanas presents a mind-blowing musical trip through the scenic soundscape of the bayou. Still wet from crawling out of the swamps\, this cross-pollinated confection will be both savory and sweet. Louisiana’s calling—here’s your chance to answer!
URL:https://theark.org/event/sonny-landreth-with-the-iguanas-240403/
LOCATION:The Ark\, 316 S. Main\, Ann Arbor\, MI\, 48104\, United States
ATTACH;FMTTYPE=image/jpeg:https://theark.org/wp-content/uploads/2023/10/Iguanas_Landreth_byRobleyDupleix_print_2434-scaled-e1705345782628.jpg
END:VEVENT
END:VCALENDAR